BEGIN:VCALENDAR
VERSION:2.0
PRODID:-//wp-events-plugin.com//7.2.3.1//EN
TZID:Europe/Zurich
X-WR-TIMEZONE:Europe/Zurich
BEGIN:VEVENT
UID:337@sac-saas.ch
DTSTART;TZID=Europe/Zurich;VALUE=DATE:20241016
DTEND;TZID=Europe/Zurich;VALUE=DATE:20241021
DTSTAMP:20240206T192527Z
URL:https://sac-saas.ch/events/herbstlager-fontainebleau-anmeldung-ab-01-0
 5-2024/
SUMMARY:JO Herbstlager Fontainebleau / Anmeldung ab 01.05.2024
DESCRIPTION:Text\n\n\n\nAnmeldung möglich ab:\n01.05.2024 / bis 02.10.2024
 \n\n\nSchwierigkeit\neinfach\n\n\nEckdaten\nwird noch bekannt gegeben\n\n\
 nAusrüstung\nwird noch bekannt gegeben\n\n\nTreffpunkt\n\n\n\nTeilnehmerz
 ahl\n\n\n\n\n&nbsp\;
CATEGORIES:SAC Tour
END:VEVENT
BEGIN:VTIMEZONE
TZID:Europe/Zurich
X-LIC-LOCATION:Europe/Zurich
BEGIN:DAYLIGHT
DTSTART:20240331T030000
TZOFFSETFROM:+0100
TZOFFSETTO:+0200
TZNAME:CEST
END:DAYLIGHT
END:VTIMEZONE
END:VCALENDAR