BEGIN:VCALENDAR
VERSION:2.0
PRODID:-//wp-events-plugin.com//7.2.3.1//EN
TZID:Europe/Zurich
X-WR-TIMEZONE:Europe/Zurich
BEGIN:VEVENT
UID:368@sac-saas.ch
DTSTART;TZID=Europe/Zurich;VALUE=DATE:20251015
DTEND;TZID=Europe/Zurich;VALUE=DATE:20251016
DTSTAMP:20250912T083738Z
URL:https://sac-saas.ch/events/herbst-ueberraschungs-tour-anmeldung-ab-15-
 09-25/
SUMMARY:Herbst Überraschungs-Tour/ Anmeldung ab 15.09.25
DESCRIPTION:Überraschung Tour im goldigen Herbst. Dieses mal gehen wir dor
 t wo der Schnee noch nicht gekommen ist und wir die Herbstsonne und schön
 e Farben noch geniessen können.\n\n\n\n\n\n\n\n\nSchwierigkeit\nT3\n\n\nE
 ckdaten\nMax 800hm\n\n\nAusrüstung\nWander Ausrüstung und Verpflegung\n\
 n\nTreffpunkt\nWird später mitgeteilt\n\n\nTeilnehmerzahl\n8\n\n\n\n&nbsp
 \;
CATEGORIES:SAC Tour
END:VEVENT
BEGIN:VTIMEZONE
TZID:Europe/Zurich
X-LIC-LOCATION:Europe/Zurich
BEGIN:DAYLIGHT
DTSTART:20250330T030000
TZOFFSETFROM:+0100
TZOFFSETTO:+0200
TZNAME:CEST
END:DAYLIGHT
END:VTIMEZONE
END:VCALENDAR