BEGIN:VCALENDAR
VERSION:2.0
PRODID:-//wp-events-plugin.com//7.2.3.1//EN
TZID:Europe/Zurich
X-WR-TIMEZONE:Europe/Zurich
BEGIN:VEVENT
UID:524@sac-saas.ch
DTSTART;TZID=Europe/Zurich;VALUE=DATE:20261014
DTEND;TZID=Europe/Zurich;VALUE=DATE:20261015
DTSTAMP:20251123T191247Z
URL:https://sac-saas.ch/events/herbst-tour-anmeldung-ab-14-09-2026/
SUMMARY:Herbst Tour / Anmeldung ab 14.09.2026
DESCRIPTION:Wir schauen Spontan wo die schönste Goldfarben sind\, der Sonn
 e scheint und der Schnee noch nicht gekommen ist.\n\n\n\nAnmeldung ab:\n14
 .09.26\n\n\nSchwierigkeit\nT3\n\n\nEckdaten\n700 D+/-\n\n\nAusrüstung\nWa
 nderausrüstung Verpflegung für Unterwegs\n\n\nTreffpunkt\nwird noch beka
 nnt gegeben\n\n\nTeilnehmerzahl\n8 inkl. Tourenleiter\n\n\n\n&nbsp\;
CATEGORIES:SAC Tour,Wanderung
END:VEVENT
BEGIN:VTIMEZONE
TZID:Europe/Zurich
X-LIC-LOCATION:Europe/Zurich
BEGIN:DAYLIGHT
DTSTART:20260329T030000
TZOFFSETFROM:+0100
TZOFFSETTO:+0200
TZNAME:CEST
END:DAYLIGHT
END:VTIMEZONE
END:VCALENDAR