BEGIN:VCALENDAR
VERSION:2.0
PRODID:-//wp-events-plugin.com//7.2.3.1//EN
TZID:Europe/Zurich
X-WR-TIMEZONE:Europe/Zurich
BEGIN:VEVENT
UID:309@sac-saas.ch
DTSTART;TZID=Europe/Zurich;VALUE=DATE:20240126
DTEND;TZID=Europe/Zurich;VALUE=DATE:20240127
DTSTAMP:20240118T202231Z
URL:https://sac-saas.ch/events/helferjobs-ice-climbing-world-cup-fr-26-01-
 2024-anmeldung-ab-12-12-2023/
SUMMARY:Ice Climbing World Cup Fr 26.01.2024 / ...Helfer komplett\, vielen 
 Dank!
DESCRIPTION:Beim diesjährigen Ice Climbing World Cup in Saas-Fee helfen wi
 r mit Freiwilligen Wie in den letzten Jahren unterstützen wir den Verein 
 Ice Climbing Saas-Fee tatkräftig\, damit dieser Anlass für die Athleten/
 Innen  und die gesamte Region zu einem vollen Erfolg wird.\nJeder Helfer 
 profitiert von folgenden Vorteilen (Anmeldung und Abholung der Sachen beim
  Haupteingang im Level 9/10)\nPersonalisierter 2-Tagespass für den Event 
 / Essen und Getränkebon / Einladung für den Helferevent / SAC Saas Bonus
 \nZudem erhalten wir vom Verein Ice Climbing Saas-Fee 1000.- in die Kasse 
 der JO-SAC Saas.\nWettkampfprogramm Freitag\, 26.1.2024\n08:00 – 11:00 
 – Lead Qualifikation – Damen\n09:15 – 10:30 – Speed Qualifikation 
 – Herren\n12:00 – 18:00 – Lead Qualifikation – Herren\n14:45 – 1
 5:30 – Speed Qualifikation – Damen\n20:00 – 20:30 – Speed Finals 
 – Damen\n20:30 – Speed Finals – Herren\n Open End Party ab 21.30Uhr
  (Alleinunterhalter Philippe Jeanneret\, Achtung Babies U2\, DJ Pencil)\nT
 reffpunkt ist die Hauptkasse. Bei der Anmeldung angeben für was und welch
 e Schicht ihr euch interessiert (Handynr angeben bitte). Die Schichten wer
 den dann laufend in der Tabelle nachgetragen. Für direkte Anmeldung\, ode
 r weitere Infos und Koordination wendet euch an Marc Briggeler 077 529 29 
 77 / marc.briggeler@bluewin.ch\nHelferliste Freitag 26.1.2024:\nIsozelt be
 treuen muss man nicht ständig vor Ort sein.\nIso Zelt betreuen: 06.45-11.
 00Uhr : Reinhard Anthamatten\nIso Zelt betreuen: 11.00-15.00Uhr: Michael S
 teiner\nIso Zelt betreuen: 15.00-18.00Uhr: Geraldine Steiner\nHauptkasse 1
 3.00-19.00Uhr: Brigitte und Hugo Petrus-Schweizer\nAussenkasse 19.00-21.30
 Uhr: Michaela Sopakova &amp\; Mieke Bumann\nTürsteher 14.00-18.00Uhr: Sie
 brig Scheeres und Lennert Suys
CATEGORIES:SAC Tour
END:VEVENT
BEGIN:VTIMEZONE
TZID:Europe/Zurich
X-LIC-LOCATION:Europe/Zurich
BEGIN:STANDARD
DTSTART:20231029T020000
TZOFFSETFROM:+0200
TZOFFSETTO:+0100
TZNAME:CET
END:STANDARD
END:VTIMEZONE
END:VCALENDAR