BEGIN:VCALENDAR
VERSION:2.0
PRODID:-//wp-events-plugin.com//7.2.3.1//EN
TZID:Europe/Zurich
X-WR-TIMEZONE:Europe/Zurich
BEGIN:VEVENT
UID:310@sac-saas.ch
DTSTART;TZID=Europe/Zurich;VALUE=DATE:20240127
DTEND;TZID=Europe/Zurich;VALUE=DATE:20240128
DTSTAMP:20240126T192343Z
URL:https://sac-saas.ch/events/helferjobs-ice-climbing-sa-27-01-2024-anmel
 dung-ab-12-12-2023/
SUMMARY:Ice Climbing World Cup Sa 27.01.2024 / ...Helfer komplett\, vielen 
 Dank!!!
DESCRIPTION:Beim diesjährigen Ice Climbing World Cup in Saas-Fee helfen wi
 r mit Freiwilligen Wie in den letzten Jahren unterstützen wir den Verein 
 Ice Climbing Saas-Fee tatkräftig\, damit dieser Anlass für die Athleten/
 Innen  und die gesamte Region zu einem vollen Erfolg wird.\nJeder Helfer 
 profitiert von folgenden Vorteilen (Anmeldung und Abholung der Sachen beim
  Haupteingang im Level 9/10)\nPersonalisierter 2-Tagespass für den Event 
 / Essen und Getränkebon / Einladung für den Helferevent / SAC Saas Bo
 nus\nZudem erhalten wir vom Verein Ice Climbing Saas-Fee 1000.- in die Kas
 se der JO-SAC Saas.\nWettkampfprogramm Samstag\, 27.1.2024\n08:45 – 11:4
 5 – Lead Halbfinal – Damen\n13:00 – 16:00 – Lead Halbfinal – Her
 ren\nAb 19:00Uhr – Finale Damen und Herren\n15min nach Wettkampfschluss:
  Preisverteilung Speed&amp\;Lead\n Open End Party ab 22.00Uhr (Hansruedi\
 , DJ Dynamax\, The Lizberries\, Bus ab 03.00Uhr)\nTreffpunkt ist die Haupt
 kasse. Bei der Anmeldung angeben für was und welche Schicht ihr euch inte
 ressiert (Handynr angeben bitte). Die Schichten werden dann laufend in der
  Tabelle nachgetragen. Für weitere Infos und Koordination wendet euch an 
 Marc Briggeler 077 529 29 77. Anmeldung kann auch direkt an Marc Briggeler
  erfolgen. marc.briggeler@bluewin.ch\nHelferliste Samstag 27.1.2024:\nIsoz
 elt&amp\;Transfer 07.00-11.45Uhr: Samuel Anthamatten &amp\; Franziska Sper
 b &amp\; Andenmatten Mario\nIsozelt&amp\;Transfer 11.45-16.00Uhr: Annalena
  Steiner &amp\; Laura Steiner &amp\; Matteo Steiner\nIsozelt&amp\;Transfer
  17.00-Ende: Lars Sutter&amp\; Rosmarie Wyer &amp\; Marc Briggeler   (al
 le bitte ab 17Uhr\, herzlichen Dank!)\nHauptkasse 13.00-19.00Uhr: Armida A
 nthamatten &amp\; Andrea Burgener\nTürsteher 14.00-18.00Uhr: Sandra Schny
 drig&amp\; Charles Zenhäusern\nAussenkasse 18-22Uhr: Dennis Andenmatten
CATEGORIES:SAC Tour
END:VEVENT
BEGIN:VTIMEZONE
TZID:Europe/Zurich
X-LIC-LOCATION:Europe/Zurich
BEGIN:STANDARD
DTSTART:20231029T020000
TZOFFSETFROM:+0200
TZOFFSETTO:+0100
TZNAME:CET
END:STANDARD
END:VTIMEZONE
END:VCALENDAR