BEGIN:VCALENDAR
VERSION:2.0
PRODID:-//wp-events-plugin.com//7.2.3.1//EN
TZID:Europe/Zurich
X-WR-TIMEZONE:Europe/Zurich
BEGIN:VEVENT
UID:107@sac-saas.ch
DTSTART;TZID=Europe/Zurich;VALUE=DATE:20230304
DTEND;TZID=Europe/Zurich;VALUE=DATE:20230305
DTSTAMP:20230221T151346Z
URL:https://sac-saas.ch/events/hallenklettern-saxon-fuer-alle/
SUMMARY:Hallenklettern Saxon für Alle / Anmeldung ab 18.02.2023
DESCRIPTION:Mitten in der Skitourensaison schadet es sicher nicht\, zwische
 ndurch mal die Kletterfinken anzuziehen und ein paar Routen zu spulen:-) W
 ir gehen in die Halle nach Saxon\, wo jede*r passende Routen findet.\n\nWe
 itere Infos: https://www.vertic-halle.ch/de/saxon\n\nKosten: CHF 15.- Tour
 enbeitrag\, Halleneintritt CHF 25.- und Fahrspesen\n\n&nbsp\;\n\n\n\nAnmel
 dung möglich ab:\n18.02.2023\, 07:00\n\n\nSchwierigkeit\nfür alle\, auch
  Anfänger\n\n\n\n\n\n\nAusrüstung\nfalls vorhanden Klettergurt\, Finken 
 und Sicherungsgerät\, evt. Seil (Gurt und Finken können auch in der Hall
 e gemietet werden)\n\n\nTreffpunkt\nwird noch bekannt gegeben (Halle öffn
 et um 09 Uhr\, zirka um 15 Uhr Abfahrt in Saxon)\n\n\nTeilnehmerzahl\n10\n
 \n\n\n&nbsp\;
CATEGORIES:Klettern,SAC Tour
END:VEVENT
BEGIN:VTIMEZONE
TZID:Europe/Zurich
X-LIC-LOCATION:Europe/Zurich
BEGIN:STANDARD
DTSTART:20221030T020000
TZOFFSETFROM:+0200
TZOFFSETTO:+0100
TZNAME:CET
END:STANDARD
END:VTIMEZONE
END:VCALENDAR