BEGIN:VCALENDAR
VERSION:2.0
PRODID:-//wp-events-plugin.com//7.2.3.1//EN
TZID:Europe/Zurich
X-WR-TIMEZONE:Europe/Zurich
BEGIN:VEVENT
UID:429@sac-saas.ch
DTSTART;TZID=Europe/Zurich;VALUE=DATE:20251129
DTEND;TZID=Europe/Zurich;VALUE=DATE:20251130
DTSTAMP:20251128T180654Z
URL:https://sac-saas.ch/events/gv-sac-saas-2025-anmeldung-ab-29-10-2025/
SUMMARY:GV Sac Saas 2025 und Vortrag zur Transalp / Anmeldung ab 25.10.2025
DESCRIPTION:Vortrag zur Transalp und anschliessend die GV des SAC-Saas.\n\n
 Die Generalversammlung des SAC-Saas findet dieses Jahr in Saas-Balen statt
 . Wir bitten alle Mitglieder\, sich über diese Seite anzumelden. Wer Prob
 leme hat\, kann sich beim Präsidenten Samuel Anthamatten per E-Mail (samu
 el.anthamatten@bluewin.ch) oder per Telefon (079 799 95 56) melden. Nach e
 rfolgter Anmeldung erhaltet ihr zwei zeitlich getrennte E-Mails. Die erste
  E-Mail beinhaltet die Meldung\, dass die Anmeldung in Bearbeitung ist. Di
 e zweite enthält die Anmeldebestätigung. Erhaltet ihr keine E-Mails\, is
 t etwas bei der Anmeldung über unsere Homepage schief gegangen.\n\nFür E
 ntschuldigungen gibt es ein separates Ticket (kann leider nicht teilnehmen
 ). Die dann vom System zugestellte Bestätigungs-E-Mails könnt ihr ignori
 eren.\n\nIm Vorfeld zur GV organisieren wir einen Vortrag zur Transalp. De
 r SAC Saas hatte in den letzten Jahren das Ziel verfolgt\, die Alpen von N
 izza nach Wien zu durchqueren. In diesem Frühjahr konnte das Projekt been
 det werden. Wir halten Rückschau auf diese spannende Durchquerung der Alp
 en.\n\n&nbsp\;\n\nProgramm Vortrag Transalp:\n\nBeginn: Sa. 29. November\,
  15.30 Uhr\nOrt:        Turnhalle\, Saas-Balen\n\nEinladung zur GV SAC
 -Saas\n\nBeginn: Sa. 29. November\, 17.00 Uhr\nOrt:        Turnhalle\,
  Saas-Balen\n\nTraktanden:\n\n 	Begrüssung\n 	Wahl der Stimmenzähler\n 	
 Protokoll der GV vom 30. November 2024 – einsehbar unter www.sac-saas.ch
 \n 	Jahresbericht des Präsidenten\n 	Statutenanpassung – 2025_08 Vorsch
 lag für Statutenanpassungen SAC Saas\n 	Berichte der Ressortchefs\n 	Kass
 a- und Revisorenbericht\n 	Wahlen\n 	Aufnahme neuer Mitglieder/Austritte/E
 hrungen\n 	Mitglied des Jahres\n 	Verschiedenes\n\nNach der GV laden wir d
 ie Anwesenden zu einem gemütlichen Nachtessen ein.\n\nDer Vorstand freut 
 sich auf eine zahlreiche Teilnahme.
CATEGORIES:Clubanlass,SAC Tour
END:VEVENT
BEGIN:VTIMEZONE
TZID:Europe/Zurich
X-LIC-LOCATION:Europe/Zurich
BEGIN:STANDARD
DTSTART:20251026T020000
TZOFFSETFROM:+0200
TZOFFSETTO:+0100
TZNAME:CET
END:STANDARD
END:VTIMEZONE
END:VCALENDAR