BEGIN:VCALENDAR
VERSION:2.0
PRODID:-//wp-events-plugin.com//7.2.3.1//EN
TZID:Europe/Zurich
X-WR-TIMEZONE:Europe/Zurich
BEGIN:VEVENT
UID:281@sac-saas.ch
DTSTART;TZID=Europe/Zurich;VALUE=DATE:20250904
DTEND;TZID=Europe/Zurich;VALUE=DATE:20250908
DTSTAMP:20250801T080812Z
URL:https://sac-saas.ch/events/gta/
SUMMARY:Grande Traversata delle Alpi / Ausgebucht
DESCRIPTION:&nbsp\;\n\n\n\nAnmeldung möglich ab:\n04.06.2025\, 07:00\n\n\n
 Schwierigkeit\nT3\n\n\nEckdaten\nSiehe Tourendetails\n\n\nAusrüstung\n•
  mittelgrosser Rucksack (35-40 Liter) mit leichtem Picknick für 3 Tage\n
 • feste\, wasserdichte Bergschuhe\,  Stirnlampe\, Taschenmesser\n• la
 nge\, wetterfeste Hosen\,Regenjacke\, Mütze\, Handschuhe\, Funktions-Unte
 rwäsche\, Socken\, Faser-Pullover\n• Ersatzwäsche\, Trainer für Hütt
 e\, Sonnenbrille\, Lippen- und Hautschutzcreme\, Trinkflasche\n• Seiden-
 Innenschlafsack\, Toilettenartikel\, sich auf das Notwendigste beschränke
 n\n• ID\, Ausweis SAC\, Euro\n• persönliche Medikamente\n\n\nTreffpun
 kt\n\n\n\nTeilnehmerzahl\n6\n\n\n\nDonnerstag: Carcoforo – Rima 6 h / 
 ↑ 1050 Hm / ↓ 900 Hm / → 11 km\nSehr schöne Etappe. Gute Kondition 
 erforderlich. Überwiegend gut begehbare Wege. Trittsicherheit erforderlic
 h.\n\nWander-Highlight:\n\n 	Die Alpe del Termo sieht aus wie eine Ansamml
 ung von Steinhütten\, die jetzt zu Ruinen geworden sind. Obwohl die Häus
 er im Laufe der Jahre aufgrund von Schnee und schlechtem Wetter eingestür
 zt sind\, bleibt es immer noch ein faszinierender Ort.\n 	Colle di Termo l
 iegt auf 2.351 Metern über dem Meeresspiegel und verbindet Carcoforo mit 
 Rima. Ein landschaftlich äußerst schöner Pass!\n 	Rima ist ein Bruchtei
 l von Alto Sermenza. An diesem Ort können Sie die Walsergemeinde intensiv
  kennenlernen. Die Architektur spiegelt perfekt die Charakteristika jeder 
 anderen Walliser Siedlung wider.\n\nFreitag: Rima - Alagna Valsesia 5 h /
  ↑ 926 Hm / ↓ 1180 Hm / → 11 km\nEine Wanderung mit unvergleichliche
 n Ausblicken! Die Route beginnt im historischen Zentrum von Rima\, dem hö
 chstgelegenen malerischen Dorf unter den Gemeinden des Valsesia (1411 m). 
 In einer spektakulären und majestätischen Umgebung gelegen\, zeichnet er
  sich durch zahlreiche sorgfältig restaurierte Walserhäuser aus\, die de
 n Wert und die Authentizität der alten historischen Wurzeln der Walser be
 zeugen.\n\nDie Route führt durch das Gebiet des Naturparks Alta Valsesia\
 , wo man auf Alpen trifft\, die durch die typische bäuerliche Hochgebirgs
 bauweise gekennzeichnet sind\, die die grünen Weiden säumen. Es geht üb
 er steile Hänge\, vorbei an der Alpe Vorco\, um am Fuss der Felswand des 
 Nordhangs des Monte Tagliaferro (2964 m) weiterzugehen\, einem imposanten 
 und majestätischen Gipfel\, der sich in der Nähe des Monte Rosa erhebt.\
 n\nGegen Ende der Wanderung erreichen wir den Weiler Pedemonte. Hier kann 
 man das bemerkenswerte Walsermuseum besichtigen \, das in einem Haus aus d
 em Jahr 1628 untergebracht ist: ein einzigartiges Erlebnis\, eine Reise in
  die Vergangenheit. Schlussendlich kommen wir im Zentrum von Alagna Valses
 ia\, eines der wichtigsten Zentren des Ökomuseums Valsesia\, an.\n\n&nbsp
 \;\nSamstag: Walserdörfer des Val d'Otro 3:40 h / ↑ 656 Hm / ↓ 653 Hm
  / → 9.2 km - ein Walserjuwel im Herzen des Valsesia\n\n\nDiese eindruck
 svolle Tour führt von Alagna Valsesia durch das malerische Val d’Otro\,
  eines der stimmungsvollsten Täler der Region\, geprägt von ursprünglic
 her Walserarchitektur\, dichten Buchen- und Nadelwäldern sowie beeindruck
 enden Ausblicken auf die Gipfel des Monte Rosa. Der Weg verläuft entlang 
 des Otro-Bachs\, vorbei an Almen\, Kapellen und traditionellen Walser-Weil
 ern wie Weng\, Scarpia\, Dorf und Follu. Höhepunkt ist die sonnige Hocheb
 ene Pianmisura – ein Ort der Stille und Naturverbundenheit. Eine Tour vo
 ller Geschichte\, landschaftlicher Vielfalt und alpiner Atmosphäre – id
 eal für Natur- und Kulturliebhaber.\n\n&nbsp\;\n\n\nSonntag: Alta Via dei
  Walser 3:30 h / ↑ 333 Hm / ↓ 333 Hm / → 9 km\nDie Route „Alta Vi
 a dei Walser“\, Teil der „Wege der Kunst“\, führt im Val Vogna durc
 h historische Walser-Weiler. Sie ist der mittelalterlichen Besiedlung durc
 h die Walliser Bevölkerung gewidmet und beeindruckt durch das Zusammenspi
 el von Natur und traditioneller Architektur. Ein besonderes Highlight ist 
 das Walser-Museum in Rabernardo (1500 m)\, das Einblicke in das Leben der 
 Walser bis ins 19. Jahrhundert gibt.
CATEGORIES:SAC Tour,Wanderung
END:VEVENT
BEGIN:VTIMEZONE
TZID:Europe/Zurich
X-LIC-LOCATION:Europe/Zurich
BEGIN:DAYLIGHT
DTSTART:20250330T030000
TZOFFSETFROM:+0100
TZOFFSETTO:+0200
TZNAME:CEST
END:DAYLIGHT
END:VTIMEZONE
END:VCALENDAR