BEGIN:VCALENDAR
VERSION:2.0
PRODID:-//wp-events-plugin.com//7.2.3.1//EN
TZID:Europe/Zurich
X-WR-TIMEZONE:Europe/Zurich
BEGIN:VEVENT
UID:93@sac-saas.ch
DTSTART;TZID=Europe/Zurich;VALUE=DATE:20230901
DTEND;TZID=Europe/Zurich;VALUE=DATE:20230904
DTSTAMP:20230814T063418Z
URL:https://sac-saas.ch/events/gta-campello-monti-rimella-alpe-baranca-car
 coforo/
SUMMARY:GTA Campello Monti - Rimella - Alpe Baranca - Carcoforo / Anmeldung
  ab 01.07.2023
DESCRIPTION:&nbsp\;\n\n\n\nAnmeldung möglich ab:\n01.07.2023\, 07:00\n\n\n
 Schwierigkeit\nT3\n\n\nEckdaten\nCampello Monti - Rimella ↑ 620Hm  ↓ 
 750Hm -&gt\; 3 h 15\n\nRimella - Alpe Baranca ↑ 920Hm  ↓ 500Hm -&gt\;
  4 h 45\n\nAlpe Baranca - Carcoforo ↑ 700Hm  ↓ 940Hm -&gt\; 5 h\n\n\n
 Ausrüstung\n• mittelgrosser Rucksack (35-40 Liter) mit leichtem Picknic
 k für 3 Tage\n• feste\, wasserdichte Bergschuhe\,  Stirnlampe\, Tasche
 nmesser\n• lange\, wetterfeste Hosen\,Regenjacke\, Mütze\, Handschuhe\,
  Funktions-Unterwäsche\, Socken\, Faser-Pullover\n• Ersatzwäsche\, Tra
 iner für Hütte\, Sonnenbrille\, Lippen- und Hautschutzcreme\, Trinkflasc
 he\n• Seiden-Innenschlafsack\, Toilettenartikel\, sich auf das Notwendig
 ste beschränken\n• ID\, Ausweis SAC\, Euro\n• persönliche Medikament
 e\n\n\nTreffpunkt\n\n\n\nTeilnehmerzahl\n6\n\n\n\nFreitag:\nÜber diesen W
 eg wurde einst Campello Monti von Rimella aus besiedelt\, erst nur im Somm
 er\, später ganzjährig. Der Weg führt über schöne Wiesen auf den Pass
  "Bocchetta di Campello (oder auch Rimella\, je nach Richtung)"\, von dem 
 man eine schöne Aussicht auf das Tal von Rimella\, die umliegenden Berge 
 und die Monte Rosa hat.\nSamstag:\nDer erste Teil des Weges führt auf der
  Rimella gegenüberliegenden Seite des Tal hinauf zum Grasrücken La Res 1
 419m. Dabei wandert man vorbei an zwei alten\, malerischen aber fast verla
 ssenen Weilern die meiste Zeit durch Wald. Dieser Wald hat sich erst im 20
 . Jahrhundert die früher bewirtschafteten Flächen zurückerobert. Von L
 a Res steigt man über schöne Wege ins Valle Baranca ab.\n\nHier muss man
  2km der wenig befahrenen Straße folgen\, bevor es auf alten Wirtschaftsw
 egen zur schön im Tal liegenden Alpe Baranca kommt. Hier werden Ziegen\, 
 Kühe und Schafe gehalten. Die Übernachtungsgäste sind eine wichtige Zus
 atzeinnahme\, durch die die Bewirtschaftung erst wirtschaftlich wird.\nSon
 ntag:\nDie Tour führt durch eine landschaftlich schöne Alpenlandschaft a
 uf den Col d'Egua. An der Alpe Selle oberhalb des Lago di Branaco sieht m
 an die Ruine der Villa Aprila des Rennfahres Vincenzo Lancia \, der aus di
 esem Tal stammt. Sie wurde 1944 von deutschen Truppen gesprengt\, damit it
 alienische Partisanen dort keinen Unterschlupf finden konnten.
CATEGORIES:SAC Tour
END:VEVENT
BEGIN:VTIMEZONE
TZID:Europe/Zurich
X-LIC-LOCATION:Europe/Zurich
BEGIN:DAYLIGHT
DTSTART:20230326T030000
TZOFFSETFROM:+0100
TZOFFSETTO:+0200
TZNAME:CEST
END:DAYLIGHT
END:VTIMEZONE
END:VCALENDAR