BEGIN:VCALENDAR
VERSION:2.0
PRODID:-//wp-events-plugin.com//7.2.3.1//EN
TZID:Europe/Zurich
X-WR-TIMEZONE:Europe/Zurich
BEGIN:VEVENT
UID:596@sac-saas.ch
DTSTART;TZID=Europe/Zurich;VALUE=DATE:20260919
DTEND;TZID=Europe/Zurich;VALUE=DATE:20260920
DTSTAMP:20260311T100418Z
URL:https://sac-saas.ch/events/gta-2-copy/
SUMMARY:Alpine Wanderung Alpjuhorn  / Anmeldung ab 19.08.2026
DESCRIPTION:Von Chastler steigen wir auf bequemem Wanderweg via Honegga nac
 h Honalp\, wo sich das Gelände öffnet und der Pfad weiter zu den Ruinen 
 der Molybdänminen auf 2773 m führt. Zwischen rostigen Blechresten\, eing
 estürzten Mauern und den letzten Spuren der alten Stollen wirkt die Lands
 chaft heute still und verlassen. Dabei war dies bis in die Zeit des Zweite
 n Weltkriegs ein kleiner industrieller Aussenposten: Hier oben wurde Molyb
 dän gewonnen\, ein in jenen Jahren begehrtes Metall zur Härtung von Stah
 l. Die kunstvoll angelegten Saumwege und die verstreuten Überreste der Be
 triebsgebäude erzählen noch von jener kurzen Blütezeit.\nDie Überqueru
 ng des Bachs bei P. 2351 gibt mit ihren von Erosion zerfurchten Flanken be
 reits einen Vorgeschmack auf das Wesen des Alpjuhorns. Der nächste Teil b
 is hoch zum Grad des Alpjuhoru ist weglos und eine richtige Steinhalde. D
 er Grad bis zum Gipfel ist dann anspruchsvoll\, weil viel loses Gestein un
 d  ausgesetzt\, es hat aber schöne Tritte.\n\n\n\n\nAnmeldung ab:\n19.08
 .2026\n\n\nSchwierigkeit\nT5\n\n\nEckdaten\n↑1500 hm ↓1500 hm / 18\,2 
 km / 8h Laufzeit\n\n\nAusrüstung\nBergausrüstung warm\, Anseilgurt\, Sti
 rnlampe\n\n\nTreffpunkt\n\n\n\nTeilnehmerzahl\n6 inklusive Tourenleiter\n\
 n\n\n&nbsp\;
CATEGORIES:Alpine Wanderung,SAC Tour
END:VEVENT
BEGIN:VTIMEZONE
TZID:Europe/Zurich
X-LIC-LOCATION:Europe/Zurich
BEGIN:DAYLIGHT
DTSTART:20260329T030000
TZOFFSETFROM:+0100
TZOFFSETTO:+0200
TZNAME:CEST
END:DAYLIGHT
END:VTIMEZONE
END:VCALENDAR