BEGIN:VCALENDAR
VERSION:2.0
PRODID:-//wp-events-plugin.com//7.2.3.1//EN
TZID:Europe/Zurich
X-WR-TIMEZONE:Europe/Zurich
BEGIN:VEVENT
UID:139@sac-saas.ch
DTSTART;TZID=Europe/Zurich;VALUE=DATE:20230603
DTEND;TZID=Europe/Zurich;VALUE=DATE:20230604
DTSTAMP:20230424T165513Z
URL:https://sac-saas.ch/events/grundkurs-firn-und-eis-anmeldung-ab-01-04-2
 023/
SUMMARY:Grundkurs Firn und Eis / Anmeldung ab 01.04.2023
DESCRIPTION:Wer sicher und mit Genuss im Hochgebirge unterwegs sein will\, 
 muss im Firn und Eis gute Grundkenntnisse haben. Materialkenntnisse\, sowi
 e der richtige Umgang mit Steigeisen\, Pickel und Seil sind Voraussetzung.
  Als Teil dieser Grundausbildung werden wir uns mit den wichtigsten Knoten
 \, dem Anseilen\, der Seilverkürzung\, den Grundkenntnissen der Seilhandh
 abung im Firn und auf dem Gletscher\, der Steigeisen-\, Pickel- und Seilte
 chnik befassen. Zudem werden wir uns einen Einblick in das Stoppen eines A
 usrutschers\, die Verankerungen im Firn\, Eis und Schnee sowie der einfach
 en Spaltenrettung verschaffen.\n\nAusrüstung für Grundkurs:\n\n 	Anseilg
 urt\n 	Steigeisen mit Antistollplatten\n 	Pickel\n 	Helm\n 	30 - 40m Seil 
 für Übungen\n 	Persönliches Material für Verankerungen\, Flaschenzüge
  und Selbstaufstieg\n\nJeder sollte im Minimum das folgende Material bei s
 ich haben\, das zu der Hochtouren Grundausrüstung gehört\n\n 	6 Karabine
 r\, davon mindestens 4 Schraubkarabiner\n 	2 kurze Prusikschlingen\n 	1 la
 nge 5 - 6m Prusikschlinge\n 	1 Dyneema oder Bandschlinge\n 	2 Eisschrauben
 \n 	1 Ropeman oder Micro Traxion\n 	1 Petzl Tibloc\n 	evt. Überziehhose u
 nd Ersatzhandschuhe für Mitreissübungen\n 	Zwischenverpflegung\n 	Persö
 nliches Material (inklusive Sonnenschutz\, dünne Daunenjacke\, etc.)\n\n&
 nbsp\;\n\n\n\nAnmeldung möglich ab:\n01.04.2023\, 07:00\, Anmeldung ist v
 erbindlich\n\n\nSchwierigkeit\n\n\n\nEckdaten\nAusbildungsort: Kreuzboden-
 Hohsaas-Triftgletscher\n\n\nAusrüstung\n\n\n\nTreffpunkt\n7.30 Uhr Talsta
 tion Bergbahn Saas Grund\n\n\nTeilnehmerzahl\n16\n\n\n\n&nbsp\;
CATEGORIES:SAC Tour
END:VEVENT
BEGIN:VTIMEZONE
TZID:Europe/Zurich
X-LIC-LOCATION:Europe/Zurich
BEGIN:DAYLIGHT
DTSTART:20230326T030000
TZOFFSETFROM:+0100
TZOFFSETTO:+0200
TZNAME:CEST
END:DAYLIGHT
END:VTIMEZONE
END:VCALENDAR