BEGIN:VCALENDAR
VERSION:2.0
PRODID:-//wp-events-plugin.com//7.2.3.1//EN
TZID:Europe/Zurich
X-WR-TIMEZONE:Europe/Zurich
BEGIN:VEVENT
UID:142@sac-saas.ch
DTSTART;TZID=Europe/Zurich;VALUE=DATE:20230610
DTEND;TZID=Europe/Zurich;VALUE=DATE:20230611
DTSTAMP:20230424T165949Z
URL:https://sac-saas.ch/events/grundkurs-fels-anmeldung-ab-01-04-2023/
SUMMARY:Grundkurs Fels / Anmeldung ab 01.04.2023
DESCRIPTION:Felsausbildung (Knoten\, Anseiltechnik\, etc. sind Voraussetzun
 g) – Erlernen verschiedener Techniken\, die es dir ermöglichen\, sicher
  im Fels und in den Bergen unterwegs zu sein. Theorie und Praxis: Ausrüst
 ungs- und Materialkunde\, Anseilen beim Klettern\, Standplatzbau im Fels\
 , Sicherungstheorie fürs Klettern\, Selbstsicherung\, Kameradensicherung
 \, Zwischensicherung\, Seilkommandos\, Bewegen in einer Mehrseillängenrou
 te\, Abseilen\, Ablassen\, etc.\n\nMaterialliste:\n\n 	Klettergurt\n 	Helm
 \n 	Kletterfinken\n 	Sicherungsschlinge\n 	3 HMS Karabiner\n 	1 Sicherungs
 -\, Abseilgerät (ATC\, etc.)\n 	6 Express- Sets\n 	Seil (min. 40m)\n 	Zwe
 ckmässige Bekleidung\n 	Verpflegung\n\n\n\n\n\n01.04.2023\, 07:00\, Anmel
 dung ist verbindlich\n\n\nSchwierigkeit\n\n\n\nEckdaten\nAusbildungsort: W
 eissmiesgebiet/Klettergarten Saas Fee\n\n\nAusrüstung\n\n\n\nTreffpunkt\n
 Detail folgen\n\n\nTeilnehmerzahl\n16\n\n\n\n&nbsp\;
CATEGORIES:SAC Tour
END:VEVENT
BEGIN:VTIMEZONE
TZID:Europe/Zurich
X-LIC-LOCATION:Europe/Zurich
BEGIN:DAYLIGHT
DTSTART:20230326T030000
TZOFFSETFROM:+0100
TZOFFSETTO:+0200
TZNAME:CEST
END:DAYLIGHT
END:VTIMEZONE
END:VCALENDAR