BEGIN:VCALENDAR
VERSION:2.0
PRODID:-//wp-events-plugin.com//7.2.3.1//EN
TZID:Europe/Zurich
X-WR-TIMEZONE:Europe/Zurich
BEGIN:VEVENT
UID:237@sac-saas.ch
DTSTART;TZID=Europe/Zurich;VALUE=DATE:20240324
DTEND;TZID=Europe/Zurich;VALUE=DATE:20240325
DTSTAMP:20240321T165341Z
URL:https://sac-saas.ch/events/grappaskitour-24-03-2024-anmeldung-ab-24-02
 -2024/
SUMMARY:Grappaskitour 24.03.2024 / Anmeldung ab 24.02.2024
DESCRIPTION:Das Ziel der legendären Grappatour ist dem Wetter entsprechend
  in der Region Simplon\, eher Rothwald. Wir werden ca 13 Uhr in Varzo Mitt
 agessen (35 Euro/Person).\n\nAutos: Hugo mit Brigitte und Irene\, Diana ko
 mmt aus Simplon Dorf\, Bertrand und Rosmarie organisieren sich selber.\n\n
 Robi und German kommen ohne Skis später nach\n\n\n\nAnmeldung möglich ab
 :\n\n\n\nSchwierigkeit\nL-WS\n\n\nEckdaten\nca 800 hm\n\n\nAusrüstung\nSk
 itourenausrüstung\n\n\nTreffpunkt\n08:30 Uhr Parkplatz vis-à-vis Restaur
 ant Ganterwald/Rothwald\n\n\n\n\n\n\n\n&nbsp\;
CATEGORIES:SAC Tour,Skitour
END:VEVENT
BEGIN:VTIMEZONE
TZID:Europe/Zurich
X-LIC-LOCATION:Europe/Zurich
BEGIN:STANDARD
DTSTART:20231029T020000
TZOFFSETFROM:+0200
TZOFFSETTO:+0100
TZNAME:CET
END:STANDARD
END:VTIMEZONE
END:VCALENDAR