BEGIN:VCALENDAR
VERSION:2.0
PRODID:-//wp-events-plugin.com//7.2.3.1//EN
TZID:Europe/Zurich
X-WR-TIMEZONE:Europe/Zurich
BEGIN:VEVENT
UID:68@sac-saas.ch
DTSTART;TZID=Europe/Zurich;VALUE=DATE:20230204
DTEND;TZID=Europe/Zurich;VALUE=DATE:20230205
DTSTAMP:20230203T070538Z
URL:https://sac-saas.ch/events/grappa-skitour-mit-gsottus-in-simplon-dorf/
SUMMARY:Grappa Skitour mit Gsottus in Simplon Dorf / Anmeldung ab 11.01.202
 3
DESCRIPTION:Skitour Simplongebiet mit anschliessendem Mittagessen in Simplo
 n Dorf.\n\nTour findet statt\n\nTreffpunkt: 09.00 Uhr auf dem Simplonpass 
 / Restaurant Monte Leone\n\nFelle montiert.\n\nEinfache Tour für jederman
 n/Frau\n\nKosten: 15.— TL Beitrag\n\nMittagessen: 51.— pro Person \n\
 nGetränke werden auf die Teilnehmer aufgeteilt\n\nBerichtverfasser: Wird 
 vor der Tour bestimmt\n\nFotos: Brigitte \n\nApèro: Fidelis / Hugo und R
 obi\n\n\n&nbsp\;\n\nFahrgemeinschaften: Bitte untereinander abmachen\n\nAu
 to ab Saas Fee\; Oskar\, Claude\, Rolf\, Auguste\n\nAuto ab Saas-Grund: Di
 ana\, Brigitte \n\nAuto ab Visp: Robert\, Jeanine\, Rosmarie\n\nHugo mit 
 Fidelis \n\nWir hoffen auf eine schöne Tour und tolle Kameradschaft\n\nR
 obi\, Diana\, Hugo\n\n\n\nAnmeldung möglich ab:\n11.01.2023\, 07:00\n\n\n
 Schwierigkeit\nWS\n\n\nEckdaten\n ↑ 800 Hm  ↓ 800 Hm -&gt\; 3 h\n\n\
 nAusrüstung\nSkitourenausrüstung komplett\n\n\nTreffpunkt\n09.00 Uhr bei
 m Rest. Monte Leone\, Simplonpass\, Felle montiert\n\n\nTeilnehmerzahl\n12
  inkl. 2 Tourenleiter\n\n\n\n&nbsp\;
CATEGORIES:SAC Tour,Skitour
END:VEVENT
BEGIN:VTIMEZONE
TZID:Europe/Zurich
X-LIC-LOCATION:Europe/Zurich
BEGIN:STANDARD
DTSTART:20221030T020000
TZOFFSETFROM:+0200
TZOFFSETTO:+0100
TZNAME:CET
END:STANDARD
END:VTIMEZONE
END:VCALENDAR