BEGIN:VCALENDAR
VERSION:2.0
PRODID:-//wp-events-plugin.com//7.2.3.1//EN
TZID:Europe/Zurich
X-WR-TIMEZONE:Europe/Zurich
BEGIN:VEVENT
UID:280@sac-saas.ch
DTSTART;TZID=Europe/Zurich;VALUE=DATE:20240120
DTEND;TZID=Europe/Zurich;VALUE=DATE:20240122
DTSTAMP:20240118T105741Z
URL:https://sac-saas.ch/events/gr-st-bernard/
SUMMARY:Ausgebucht: Schneeschuh Becs de Bosson - Le Tsan
DESCRIPTION:Samstag:\n\nWir fahren mit den ÖV nach Grimentz und von dort m
 it der Gondelbahn hoch nach Bendolla. Von dort sesseln wir zum Col de Pouc
 e. Die Bergbahnen in Grimentz können mit dem Magicpass benutzt werden. Vo
 n der Bergstation laufen wir bis zum Col des Becs de Bosson. Der Weg zum P
 ass wird  regelmässig im Winter begangen und kontrolliert. Bei der Hütt
 e machen wir dann eine Pause beziehen die Unterkunft. Später am Nachmitta
 g besteigen wir in einem kurzen Aufstieg die Pointe de la Tsavelire. Die a
 temraubene Stimmung mitte in den Bergen und die unvergesslichen Sonnenunte
 rgänge gehören uns.\n\nSonntag:\n\nEin langer Tag steht bevor. Mit den e
 rsten Sonnenstrahlen machen wir uns auf den Weg. Es bestehen je nach Verh
 ältnissen diverse Optionen offen. Die längste Option ist der Abstieg bis
  nach Nax. Eine aussichtsreiche Tour von der hochalpinen Berghütte ins ur
 sprüngliche und wilde Vallon de Réchy und nach Nax\, das aufgrund seiner
  Lage auch „Balkon des Himmels“ genannt wird.\n\n\n\nAnmeldung möglic
 h ab:\n01.12.2023\n\n\nSchwierigkeit\nWT4\n\n\nEckdaten\n↑463↓164 / 4k
 m\n↑97↓1700 / 13.4km\n\n\nAusrüstung\nWintertourenausrüstung mit seh
 r warmen Kleider\, Schneeschuhe\, Stöcke\, LSV\, Lawinenschaufel\, Lawine
 nsonde\, Seidenschlafsack\, Stirnlampe\, Halbtax/GA\, Magic Pass\n\n\nTref
 fpunkt\nWir fahren mit den ÖV nach Grimentz Tele. Brig ab 09:26 / Visp ab
  09:35\n\n\nTeilnehmerzahl\n6\n\n\n\n&nbsp\;
CATEGORIES:SAC Tour
END:VEVENT
BEGIN:VTIMEZONE
TZID:Europe/Zurich
X-LIC-LOCATION:Europe/Zurich
BEGIN:STANDARD
DTSTART:20231029T020000
TZOFFSETFROM:+0200
TZOFFSETTO:+0100
TZNAME:CET
END:STANDARD
END:VTIMEZONE
END:VCALENDAR