BEGIN:VCALENDAR
VERSION:2.0
PRODID:-//wp-events-plugin.com//7.2.3.1//EN
TZID:Europe/Zurich
X-WR-TIMEZONE:Europe/Zurich
BEGIN:VEVENT
UID:152@sac-saas.ch
DTSTART;TZID=Europe/Zurich;VALUE=DATE:20230903
DTEND;TZID=Europe/Zurich;VALUE=DATE:20230904
DTSTAMP:20230820T182440Z
URL:https://sac-saas.ch/events/gorner-gorge-zermatt-anmeldung-ab-15-08-202
 3/
SUMMARY:Gorner Gorge Zermatt / abgesagt
DESCRIPTION:Wg. Terminkollision abgesagt\n\n\n\nAnmeldung möglich ab:\n15.
 08.2023\, 07:00\n\n\nSchwierigkeit\n\n\n\nEckdaten\n\n\n\nAusrüstung\n\n\
 n\nTreffpunkt\n\n\n\nTeilnehmerzahl\n6\n\n\n\n&nbsp\;
CATEGORIES:SAC Tour
END:VEVENT
BEGIN:VTIMEZONE
TZID:Europe/Zurich
X-LIC-LOCATION:Europe/Zurich
BEGIN:DAYLIGHT
DTSTART:20230326T030000
TZOFFSETFROM:+0100
TZOFFSETTO:+0200
TZNAME:CEST
END:DAYLIGHT
END:VTIMEZONE
END:VCALENDAR