BEGIN:VCALENDAR
VERSION:2.0
PRODID:-//wp-events-plugin.com//7.2.3.1//EN
TZID:Europe/Zurich
X-WR-TIMEZONE:Europe/Zurich
BEGIN:VEVENT
UID:571@sac-saas.ch
DTSTART;TZID=Europe/Zurich;VALUE=DATE:20260926
DTEND;TZID=Europe/Zurich;VALUE=DATE:20260927
DTSTAMP:20251123T185621Z
URL:https://sac-saas.ch/events/gorge-zermatt-anmeldung-ab-14-01-2026/
SUMMARY:Gorge Zermatt / Anmeldung ab 14.01.2026
DESCRIPTION:&nbsp\;\n\n\n\nAnmeldung ab:\n\n\n\nSchwierigkeit\n\n\n\nEckdat
 en\n\n\n\nAusrüstung\n\n\n\nTreffpunkt\n\n\n\nTeilnehmerzahl\n8\n\n\n\n&n
 bsp\;
CATEGORIES:Klettern,SAC Tour
END:VEVENT
BEGIN:VTIMEZONE
TZID:Europe/Zurich
X-LIC-LOCATION:Europe/Zurich
BEGIN:DAYLIGHT
DTSTART:20260329T030000
TZOFFSETFROM:+0100
TZOFFSETTO:+0200
TZNAME:CEST
END:DAYLIGHT
END:VTIMEZONE
END:VCALENDAR