BEGIN:VCALENDAR
VERSION:2.0
PRODID:-//wp-events-plugin.com//7.2.3.1//EN
TZID:Europe/Zurich
X-WR-TIMEZONE:Europe/Zurich
BEGIN:VEVENT
UID:305@sac-saas.ch
DTSTART;TZID=Europe/Zurich;VALUE=DATE:20241028
DTEND;TZID=Europe/Zurich;VALUE=DATE:20241029
DTSTAMP:20241023T060532Z
URL:https://sac-saas.ch/events/gorge-zermatt-anmeldung-ab-01-09-2024/
SUMMARY:Abgesagt: Gorge Zermatt / Anmeldung ab 01.09.2024
DESCRIPTION:Wegen Terminkollision abgesagt!\n\n\n\nAnmeldung möglich ab:\n
 01.09.2024\n\n\nSchwierigkeit\nK3\n\n\nEckdaten\n\n\n\nAusrüstung\n\n\n\n
 Treffpunkt\n\n\n\nTeilnehmerzahl\n8\n\n\n\n&nbsp\;
CATEGORIES:SAC Tour
END:VEVENT
BEGIN:VTIMEZONE
TZID:Europe/Zurich
X-LIC-LOCATION:Europe/Zurich
BEGIN:STANDARD
DTSTART:20241027T020000
TZOFFSETFROM:+0200
TZOFFSETTO:+0100
TZNAME:CET
END:STANDARD
END:VTIMEZONE
END:VCALENDAR