BEGIN:VCALENDAR
VERSION:2.0
PRODID:-//wp-events-plugin.com//7.2.3.1//EN
TZID:Europe/Zurich
X-WR-TIMEZONE:Europe/Zurich
BEGIN:VEVENT
UID:304@sac-saas.ch
DTSTART;TZID=Europe/Zurich;VALUE=DATE:20240303
DTEND;TZID=Europe/Zurich;VALUE=DATE:20240304
DTSTAMP:20240128T084753Z
URL:https://sac-saas.ch/events/gorge-alpine-saas-fee-by-night-anmeldung-ab
 -01-02-2024/
SUMMARY:Gorge Alpine Saas Fee by Night / Anmeldung ab 01.02.2024
DESCRIPTION:Text\n\n\n\nAnmeldung möglich ab:\n01.02.2024\n\n\nSchwierigke
 it\nK3\n\n\nEckdaten\nDynamischer Klettersteig Gorge Alpine von Saas-Fee n
 ach Saas-Grund. Dauer der Tour ca 3 Std.\n\nBergführertour / pro Person C
 HF 45.- (Normalpreis CHF 80.-) plus SAC-Beitrag\n\n\nAusrüstung\ngute Sch
 uhe\, zweckmässige\, warme Kleider\, dünne Fingerhandschuhe\, dünne Mü
 tze oder   Stirnband\, Helm\, Klettergurt\, Klettersteigset. Fehlende Au
 srüstungn kann kosten los zur Verfügung gestellt werden. Wichtig: Gute S
 tirnlampe\n\n\nTreffpunkt\n17.45 Uhr Saas-Fee vor Busterminal bei Kiosk.\n
 \n\nTeilnehmerzahl\n6-8\n\n\n\n&nbsp\;
CATEGORIES:Alpine Wanderung,SAC Tour
END:VEVENT
BEGIN:VTIMEZONE
TZID:Europe/Zurich
X-LIC-LOCATION:Europe/Zurich
BEGIN:STANDARD
DTSTART:20231029T020000
TZOFFSETFROM:+0200
TZOFFSETTO:+0100
TZNAME:CET
END:STANDARD
END:VTIMEZONE
END:VCALENDAR