BEGIN:VCALENDAR
VERSION:2.0
PRODID:-//wp-events-plugin.com//7.2.3.1//EN
TZID:Europe/Zurich
X-WR-TIMEZONE:Europe/Zurich
BEGIN:VEVENT
UID:118@sac-saas.ch
DTSTART;TZID=Europe/Zurich;VALUE=DATE:20230205
DTEND;TZID=Europe/Zurich;VALUE=DATE:20230206
DTSTAMP:20230204T085742Z
URL:https://sac-saas.ch/events/gletscherwelt/
SUMMARY:KiBe/JO Erkundung Gletscherwelt Längfluh
DESCRIPTION:Dieses Jahr machen wir eine coole Schneeschuhtour auf dem Glets
 cher über Saas-Fee. Wir werden Eindrückliche Gletscherspalten sehen und 
 bestimmt viel Spass haben.\n\n\n\nSchwierigkeit\nleicht\n\n\nAnmeldeschlus
 s\n 1.2.\n\n\nAusrüstung\nSchneeschuhe\, Stöcke\, Klettergurt\, Bergsch
 uhe\, warme Kleidung\, Sonnenschutz\, Lunch und Thermos\n\n\nTreffpunkt\n9
 .30 Talstation Spielbodenbahn\n\n\nKosten\n10.- plus Bahnticket\n\n\n\n&nb
 sp\;
CATEGORIES:SAC JO,SAC KIBE
END:VEVENT
BEGIN:VTIMEZONE
TZID:Europe/Zurich
X-LIC-LOCATION:Europe/Zurich
BEGIN:STANDARD
DTSTART:20221030T020000
TZOFFSETFROM:+0200
TZOFFSETTO:+0100
TZNAME:CET
END:STANDARD
END:VTIMEZONE
END:VCALENDAR