BEGIN:VCALENDAR
VERSION:2.0
PRODID:-//wp-events-plugin.com//7.2.3.1//EN
TZID:Europe/Zurich
X-WR-TIMEZONE:Europe/Zurich
BEGIN:VEVENT
UID:400@sac-saas.ch
DTSTART;TZID=Europe/Zurich;VALUE=DATE:20241130
DTEND;TZID=Europe/Zurich;VALUE=DATE:20241201
DTSTAMP:20251023T191334Z
URL:https://sac-saas.ch/events/generalversammlung-sac-saas-anmeldung-ab-01
 -11-2024/
SUMMARY:Generalversammlung SAC-Saas / Anmeldung ab 01.11.2024
DESCRIPTION:Die Generalversammlung des SAC-Saas findet dieses Jahr in Saas-
 Grund. Wir bitten alle Mitglieder sich über diese Seite anzumelden. Wer P
 robleme hat\, kann sich beim Präsidenten Samuel Anthamatten per E-Mail (s
 amuel.anthamatten@bluewin.ch) oder per Telefon (079 799 95 56) melden. Nac
 h erfolgter Anmeldung erhaltet ihr zwei zeitlich getrennte E-Mails. Die er
 ste E-Mail beinhaltet die Meldung\, dass die Anmeldung in Bearbeitung ist.
  Die zweite enthält die Anmeldebestätigung. Erhaltet ihr keine E-Mails\,
  ist etwas bei der Anmeldung über unsere Homepage falschgegangen.\n\nFür
  Entschuldigungen gibt es ein separates Ticket (kann leider nicht teilnehm
 en). Die dann vom System zugestellte Bestätigungs-E-Mails könnt ihr igno
 rieren.\n\nHier die Einladung zur GV\n\nOrt: Saas-Grund\, Restaurant Bergh
 eimat\n\nZeit: 16.30 Uhr\n\nDie Traktanden:\n\n\n\n1. Begrüssung\n\n\n2. 
 Wahl der Stimmzähler\n\n\n3. Protokoll der GV vom November 2023 (einsehba
 r https://sac-saas.ch/protokoll-gv-2023/)\n\n\n4. Jahresbericht des Präsi
 denten\n\n\n5. Statutenanpassung 2024_09 Vorschalg Statutenanpassungen SAC
  Saas_final\n\n\n6. Berichte der Ressortchefs\n\n\n7. Kassa- und Revisoren
 bericht\n\n\n8. Wahlen\n\n\n9. Aufnahme neuer Mitglieder / Austritte / Ehr
 ungen\n\n\n10. Mitglied des Jahres\n\n\n11. Verschiedenes\n\n\n\nNach der 
 GV laden wir die Anwesenden zu einem gemütlichen Nachtessen ein.\n\nDer V
 orstand freut sich auf eine zahlreiche Teilnahme.
CATEGORIES:Clubanlass,SAC Tour
END:VEVENT
BEGIN:VTIMEZONE
TZID:Europe/Zurich
X-LIC-LOCATION:Europe/Zurich
BEGIN:STANDARD
DTSTART:20241027T020000
TZOFFSETFROM:+0200
TZOFFSETTO:+0100
TZNAME:CET
END:STANDARD
END:VTIMEZONE
END:VCALENDAR