BEGIN:VCALENDAR
VERSION:2.0
PRODID:-//wp-events-plugin.com//7.2.3.1//EN
TZID:Europe/Zurich
X-WR-TIMEZONE:Europe/Zurich
BEGIN:VEVENT
UID:155@sac-saas.ch
DTSTART;TZID=Europe/Zurich;VALUE=DATE:20231125
DTEND;TZID=Europe/Zurich;VALUE=DATE:20231126
DTSTAMP:20231125T074634Z
URL:https://sac-saas.ch/events/generalversammlung-anmeldung-ab-01-11-2023/
SUMMARY:Generalversammlung / Anmeldung ab 01.11.2023
DESCRIPTION:Die 31. GV des SAC-Saas findet am 25. November in Saas-Almagell
  statt. Beginn ist 16.30 Uhr und wir habe Gastrecht im Hotel Kristall-Saph
 ir.\n\nBitte die Anmeldung über unsere Home-Page machen (Auswahl "Standar
 d-Ticket" - Anzahl "1"). Es besteht aber auch die Möglichkeit\, uns eine 
 E-Mail (info@sac-saas.ch) zu schreiben oder eine Anmeldung telefonisch bei
  unserem Präsidenten Samuel Anthamatten (079 799 95 56) zu platzieren.\n\
 nBitte bei der Anmeldung angeben\, ob ihr auch am Nachtessen teilnimmt und
  ob vegetarisch gewünscht wird.\n\nAbmeldungen sind auch über unsere Hom
 e-Page möglich. Wir haben dafür eine eigene Ticket-Art mit der Bezeichnu
 ng "Abmeldungen" eingerichtet. Bitte Text auf der E-Mail-Bestätigung igno
 rieren.\n\nDer letzte Bus von Saas-Almagell nach Saas-Grund fährt bereits
  um 21.30 Uhr. Es besteht die Option\, vor Ort ein Taxi für die Rückreis
 e von Saas-Almagell nach Saas-Grund zu bestellen.\nProgramm GV 2023\n16:15
  Türöffnung\n\n16:30 – 18:30 Geschäftlicher Teil der GV mit folgend
 en Traktanden\n\n 	Begrüssung\n 	Wahl der Stimmzähler\n 	Protokoll der G
 V vom November 2022 (einsehbar unter www.sac-saas.ch)\n 	Jahresbericht des
  Präsidenten\n 	Berichte der Ressortchefs\n 	Kassa- und Revisorenbericht\
 n 	Wahlen\n 	Aufnahme neuer Mitglieder / Austritte / Ehrungen\n 	Mitglied 
 des Jahres\n 	Verschiedenes\n\n18:30 Apéro\n\n19:30 Feines Nachtessen\n
 \n&nbsp\;\n\nWir freuen uns über ein zahlreiches Kommen und ein paar gese
 llige Vereinsstunden.\n\n&nbsp\;
CATEGORIES:SAC Tour
END:VEVENT
BEGIN:VTIMEZONE
TZID:Europe/Zurich
X-LIC-LOCATION:Europe/Zurich
BEGIN:STANDARD
DTSTART:20231029T020000
TZOFFSETFROM:+0200
TZOFFSETTO:+0100
TZNAME:CET
END:STANDARD
END:VTIMEZONE
END:VCALENDAR