BEGIN:VCALENDAR
VERSION:2.0
PRODID:-//wp-events-plugin.com//7.2.3.1//EN
TZID:Europe/Zurich
X-WR-TIMEZONE:Europe/Zurich
BEGIN:VEVENT
UID:278@sac-saas.ch
DTSTART;TZID=Europe/Zurich;VALUE=DATE:20241019
DTEND;TZID=Europe/Zurich;VALUE=DATE:20241021
DTSTAMP:20240927T180017Z
URL:https://sac-saas.ch/events/gastlosen-ueberschreitung-anmeldung-ab-07-0
 7-2024/
SUMMARY:Gastlosen-Überschreitung
DESCRIPTION:
CATEGORIES:SAC Tour
END:VEVENT
BEGIN:VTIMEZONE
TZID:Europe/Zurich
X-LIC-LOCATION:Europe/Zurich
BEGIN:DAYLIGHT
DTSTART:20240331T030000
TZOFFSETFROM:+0100
TZOFFSETTO:+0200
TZNAME:CEST
END:DAYLIGHT
END:VTIMEZONE
END:VCALENDAR