BEGIN:VCALENDAR
VERSION:2.0
PRODID:-//wp-events-plugin.com//7.2.3.1//EN
TZID:Europe/Zurich
X-WR-TIMEZONE:Europe/Zurich
BEGIN:VEVENT
UID:367@sac-saas.ch
DTSTART;TZID=Europe/Zurich;VALUE=DATE:20250604
DTEND;TZID=Europe/Zurich;VALUE=DATE:20250605
DTSTAMP:20250506T195726Z
URL:https://sac-saas.ch/events/fruehlings-ueberraschungs-tour-anmeldung-ab
 -04-05-25/
SUMMARY:Frühlings Überraschungs-Tour / Anmeldung ab 04.05.25
DESCRIPTION:Kleine Überraschung Frühlingstour. Wir gehen dort wo die Sonn
 e scheint und die Frühling angekommen ist.\n\n\n\n\n\n\n\nSchwierigkeit\n
 Max T3\n\n\nEckdaten\nMax 800 hm\n\n\nAusrüstung\nWander Ausrüstung und 
 Verpflegung\n\n\nTreffpunkt\nWird später mitgeteilt\n\n\nTeilnehmerzahl\n
 8\n\n\n\n&nbsp\;
CATEGORIES:Alpine Wanderung,SAC Tour
END:VEVENT
BEGIN:VTIMEZONE
TZID:Europe/Zurich
X-LIC-LOCATION:Europe/Zurich
BEGIN:DAYLIGHT
DTSTART:20250330T030000
TZOFFSETFROM:+0100
TZOFFSETTO:+0200
TZNAME:CEST
END:DAYLIGHT
END:VTIMEZONE
END:VCALENDAR