BEGIN:VCALENDAR
VERSION:2.0
PRODID:-//wp-events-plugin.com//7.2.3.1//EN
TZID:Europe/Zurich
X-WR-TIMEZONE:Europe/Zurich
BEGIN:VEVENT
UID:523@sac-saas.ch
DTSTART;TZID=Europe/Zurich;VALUE=DATE:20260603
DTEND;TZID=Europe/Zurich;VALUE=DATE:20260604
DTSTAMP:20260311T093129Z
URL:https://sac-saas.ch/events/fruehlings-tour-anmeldung-ab-03-05-2026/
SUMMARY:Frühlings Tour / Anmeldung ab 03.05.2026
DESCRIPTION:Wir schauen spontan wo der Sonne scheint\, der Schnee verschwun
 den ist und Frühling gekommen ist.\n\n\n\nAnmeldung ab:\n03.05.2026\n\n\n
 Schwierigkeit\nT3\n\n\nEckdaten\n750 D+/-\n\n\nAusrüstung\nWanderausrüst
 ung und Verpflegung für unterwegs\n\n\nTreffpunkt\nwird noch bekannt gege
 ben\n\n\nTeilnehmerzahl\n8 inkl. Tourenleiter\n\n\n\n&nbsp\;
CATEGORIES:SAC Tour,Wanderung
END:VEVENT
BEGIN:VTIMEZONE
TZID:Europe/Zurich
X-LIC-LOCATION:Europe/Zurich
BEGIN:DAYLIGHT
DTSTART:20260329T030000
TZOFFSETFROM:+0100
TZOFFSETTO:+0200
TZNAME:CEST
END:DAYLIGHT
END:VTIMEZONE
END:VCALENDAR