BEGIN:VCALENDAR
VERSION:2.0
PRODID:-//wp-events-plugin.com//7.2.3.1//EN
TZID:Europe/Zurich
X-WR-TIMEZONE:Europe/Zurich
BEGIN:VEVENT
UID:4@sac-saas.ch
DTSTART;TZID=Europe/Zurich;VALUE=DATE:20221008
DTEND;TZID=Europe/Zurich;VALUE=DATE:20221009
DTSTAMP:20221008T191124Z
URL:https://sac-saas.ch/events/freundschaftstreffen-villadossola/
SUMMARY:Freundschaftstreffen mit CAI Villadossola im Wallis
DESCRIPTION:Unser jährliches Freundschaftstreffen mit dem CAI Villadossola
  findet dieses Jahr wieder bei uns im Wallis statt.\n\nWir treffen uns bei
 m Bahnhof in Brig und laufen dann gemeinsam Richtung Gardemuseum in Naters
 . Das Museum der Schweizergarde befindet sich in der ehemaligen Artillerie
 -Festung von Naters. Die militärische Festung wurde 1939/40 erbaut und se
 ither immer wieder modernisiert. Die Festung beherbergte bis zu 200 Mann u
 nd ist mit allen Einrichtungen von der Küche bis zum Arrestlokal wie ein 
 kleines unterirdisches Dorf. Bis 2002 war die Festung geheim. Dort gibt es
  eine Führung durch einen ehemaligen Schweizergardisten und anschliessend
  gemütliches Zusammensein mit einem z`Mittag. Falls Vegetarisch bitte mel
 den.\n\nWir freuen uns über deine Teilnahme an diesem freundschaftlichen 
 Anlass\n\nAnmeldung bis 3.Oktober 22\n\n\n\nSchwierigkeit\nT1\n\n\nEckdate
 n\n\n\n\nAusrüstung\n\n\n\nTreffpunkt\n09:15 Bahnhof Brig Eingangshalle /
  Retour nach Brig so gegen 15:00 Uhr\n\n\nTeilnehmerzahl\n15 Personen\n\n\
 n\n&nbsp\;
CATEGORIES:Wanderung
END:VEVENT
BEGIN:VTIMEZONE
TZID:Europe/Zurich
X-LIC-LOCATION:Europe/Zurich
BEGIN:DAYLIGHT
DTSTART:20220327T030000
TZOFFSETFROM:+0100
TZOFFSETTO:+0200
TZNAME:CEST
END:DAYLIGHT
END:VTIMEZONE
END:VCALENDAR