BEGIN:VCALENDAR
VERSION:2.0
PRODID:-//wp-events-plugin.com//7.2.3.1//EN
TZID:Europe/Zurich
X-WR-TIMEZONE:Europe/Zurich
BEGIN:VEVENT
UID:250@sac-saas.ch
DTSTART;TZID=Europe/Zurich;VALUE=DATE:20241012
DTEND;TZID=Europe/Zurich;VALUE=DATE:20241013
DTSTAMP:20241009T200616Z
URL:https://sac-saas.ch/events/freundschaftstreffen-cai-villadossola/
SUMMARY:Freundschaftstreffen CAI Villadossola / Anmeldung ab 14.09.2024
DESCRIPTION:Text\n\n\n\nAnmeldung möglich ab:\n14.09.2024\n\n\nSchwierigke
 it\nT2\n\n\nEckdaten\nRundweg zer Brigga - Hohe Stiege - Saastal\n\n\nAusr
 üstung\nWanderausrüstung dem  Wetter angepasst\, Getränke für unterwe
 gs\n\n\nTreffpunkt\n09:00 Uhr Saas-Grund Postplatz\n\n\nTeilnehmerzahl\n\n
 \n\n\nAlle Jahre wieder ein gemütliches Zusammensein mit unseren italieni
 schen Freunden. Wir freuen uns \, dieses Jahr im Saastal unterwegs zu sein
 . Für einige heisst das vielleicht sogar neue Pfade zu entdecken. Neben K
 ultur zählt auch wie jedes Jahr das gemütliche Zusammensein mit einem ge
 meinsamen Mittagessen. Schön wenn auch du dabei bist und diesen Tag berei
 cherst.\n\nWäre schön wenn jeder etwas mitbringen könnte\, z.B. Salat\,
  Dessert\, Apero ect. Bitte im Kommentar vermerken.\n\nHerzlichen Dank\n\n
 &nbsp\;
CATEGORIES:SAC Tour
END:VEVENT
BEGIN:VTIMEZONE
TZID:Europe/Zurich
X-LIC-LOCATION:Europe/Zurich
BEGIN:DAYLIGHT
DTSTART:20240331T030000
TZOFFSETFROM:+0100
TZOFFSETTO:+0200
TZNAME:CEST
END:DAYLIGHT
END:VTIMEZONE
END:VCALENDAR