BEGIN:VCALENDAR
VERSION:2.0
PRODID:-//wp-events-plugin.com//7.2.3.1//EN
TZID:Europe/Zurich
X-WR-TIMEZONE:Europe/Zurich
BEGIN:VEVENT
UID:121@sac-saas.ch
DTSTART;TZID=Europe/Zurich;VALUE=DATE:20231007
DTEND;TZID=Europe/Zurich;VALUE=DATE:20231008
DTSTAMP:20231001T082702Z
URL:https://sac-saas.ch/events/freundschaftstour-cai-italien/
SUMMARY:Freundschaftstour CAI (Italien) / Anmeldung ab 01.09.2023
DESCRIPTION:&nbsp\;\n\n\n\nAnmeldung möglich ab:\n01.09.2023\, 07:00  / A
 nmeldungen bis 04.10.2023\n\n\nSchwierigkeit\n\n\n\nEckdaten\n ↑ 330 Hm
   ↓ 330 Hm -&gt\; 2.5 h\, km 9.6\n\n\nAusrüstung\nKleidung dem Wetter 
 angepasst\, Getränk\, Zwischenverpflegung\n\n\nTreffpunkt\nZug von Visp a
 b 8:29 Uhr \, Ankunft Domodossola 09:08 Uhr\n\n\nTeilnehmerzahl\n30 inkl. 
 TL\n\n\n\nUnser alljährliches Treffen findet dieses Jahr wieder in Italie
 n statt. Nach unserem Eintreffen in Domodossola\, werden wir von unseren i
 talienischen Freunden abgeholt und fahren  nach Pontetto die Montecrestes
 e wo dann auch unsere Wanderung beginnt. Während unserer Tour machen wir 
 an interessanten Orten kleine Pausen und geniessen das Zusammensein.\n\nAm
  späteren Nachmittag fahren wir retour nach Domodossola wo unser Treffen 
 endet\, ma che non finisce perchè l`amicizia non finisce mai.\n\nSaluti e
  vi aspettiamo\n\nUnsere Freunde aus Villadossola\n\n&nbsp\;
CATEGORIES:SAC Tour
END:VEVENT
BEGIN:VTIMEZONE
TZID:Europe/Zurich
X-LIC-LOCATION:Europe/Zurich
BEGIN:DAYLIGHT
DTSTART:20230326T030000
TZOFFSETFROM:+0100
TZOFFSETTO:+0200
TZNAME:CEST
END:DAYLIGHT
END:VTIMEZONE
END:VCALENDAR