BEGIN:VCALENDAR
VERSION:2.0
PRODID:-//wp-events-plugin.com//7.2.3.1//EN
TZID:Europe/Zurich
X-WR-TIMEZONE:Europe/Zurich
BEGIN:VEVENT
UID:566@sac-saas.ch
DTSTART;TZID=Europe/Zurich;VALUE=DATE:20260607
DTEND;TZID=Europe/Zurich;VALUE=DATE:20260608
DTSTAMP:20251123T185838Z
URL:https://sac-saas.ch/events/fortgeschrittenenkurs-firn-und-eis-anmeldun
 g-ab-06-05-2026/
SUMMARY:Fortgeschrittenenkurs Firn und Eis / Anmeldung ab 06.05.2026
DESCRIPTION:&nbsp\;\n\n\n\nAnmeldung ab:\n\n\n\nSchwierigkeit\n\n\n\nEckdat
 en\n\n\n\nAusrüstung\n\n\n\nTreffpunkt\n\n\n\nTeilnehmerzahl\n15 inkl Ber
 gführer\n\n\n\n&nbsp\;
CATEGORIES:Ausbildungskurs,SAC Tour
END:VEVENT
BEGIN:VTIMEZONE
TZID:Europe/Zurich
X-LIC-LOCATION:Europe/Zurich
BEGIN:DAYLIGHT
DTSTART:20260329T030000
TZOFFSETFROM:+0100
TZOFFSETTO:+0200
TZNAME:CEST
END:DAYLIGHT
END:VTIMEZONE
END:VCALENDAR