BEGIN:VCALENDAR
VERSION:2.0
PRODID:-//wp-events-plugin.com//7.2.3.1//EN
TZID:Europe/Zurich
X-WR-TIMEZONE:Europe/Zurich
BEGIN:VEVENT
UID:140@sac-saas.ch
DTSTART;TZID=Europe/Zurich;VALUE=DATE:20230604
DTEND;TZID=Europe/Zurich;VALUE=DATE:20230605
DTSTAMP:20230424T165733Z
URL:https://sac-saas.ch/events/fortgeschrittenenkurs-firn-und-eis-anmeldun
 g-ab-01-04-2023/
SUMMARY:Fortgeschrittenenkurs Firn und Eis / Anmeldung ab 01.04.2023
DESCRIPTION:Als Ziel dieser Weiterbildung werden wir uns im Detail mit den 
 Knoten für die improvisierte Rettung (Blockierungsknoten\, Prohaska\, Kle
 mmknoten\, gesteckter Prusik\, etc. etc.)\, den verschiedenen Anseilarten\
 , der Seilverkürzung\, der richtigen Steigeisen-\, Pickel- und Seiltechni
 k befassen. Zudem werden wir unter anderem die folgende Themen und Schwerp
 unkte im Detail behandeln: die Seilschaft auf dem Gletscher\, Gehen und Se
 iltechnik auf dem Gletscher\, Gehen am kurzen Seil im Firn\, Mitreissprobe
 lmatik\, Liegestütztechnik und Pickelrettungsgriff\, Verankerungen im Sch
 nee\, Firn und Eis\, Spaltensturz\, doppelter Flaschenzug\, Österreicher 
 Flaschenzug\, Selbstaufstieg aus der Spalte.\n\n&nbsp\;\n\nAusrüstung fü
 r Fortgeschrittenenkurs:\n\n 	Anseilgurt\n 	Steigeisen mit Antistollplatte
 n\n 	Pickel\n 	Helm\n 	30 - 40m Seil für Übungen\n 	Persönliches Materi
 al für Verankerungen\, Flaschenzüge und Selbstaufstieg\n\nJeder sollte i
 m Minimum das folgende Material bei sich haben\, das zu der Hochtouren Gru
 ndausrüstung gehört\n\n 	6 Karabiner\, davon mindestens 4 Schraubkarabin
 er\n 	2 kurze Prusikschlingen\n 	1 lange 5 - 6m Prusikschlinge\n 	1 Dyneem
 a oder Bandschlinge\n 	2 Eisschrauben\n 	1 Ropeman oder Micro Traxion\n 	1
  Petzl Tibloc\n 	evt. Überziehhose und Ersatzhandschuhe für Mitreissübu
 ngen\n 	Zwischenverpflegung\n 	Persönliches Material (inklusive Sonnensch
 utz\, dünne Daunenjacke\, etc.)\n\n&nbsp\;\n\n\n\nAnmeldung möglich ab:\
 n01.04.2023\, 07:00\, Anmeldung ist verbindlich\n\n\nSchwierigkeit\n\n\n\n
 Eckdaten\nKursort: Kreuzboden-Hohsaas-Saas Grund\n\n\nAusrüstung\n\n\n\nT
 reffpunkt\n7.30 Uhr Talstation Bergbahn Saas Grund\n\n\nTeilnehmerzahl\n16
 \n\n\n\n&nbsp\;
CATEGORIES:SAC Tour
END:VEVENT
BEGIN:VTIMEZONE
TZID:Europe/Zurich
X-LIC-LOCATION:Europe/Zurich
BEGIN:DAYLIGHT
DTSTART:20230326T030000
TZOFFSETFROM:+0100
TZOFFSETTO:+0200
TZNAME:CEST
END:DAYLIGHT
END:VTIMEZONE
END:VCALENDAR