BEGIN:VCALENDAR
VERSION:2.0
PRODID:-//wp-events-plugin.com//7.2.3.1//EN
TZID:Europe/Zurich
X-WR-TIMEZONE:Europe/Zurich
BEGIN:VEVENT
UID:143@sac-saas.ch
DTSTART;TZID=Europe/Zurich;VALUE=DATE:20230611
DTEND;TZID=Europe/Zurich;VALUE=DATE:20230612
DTSTAMP:20230424T170419Z
URL:https://sac-saas.ch/events/fortgeschrittenenkurs-fels-gehen-am-kurzen-
 seil-anmeldung-ab-01-04-2023/
SUMMARY:Fortgeschrittenenkurs Fels\, Gehen am kurzen Seil / Anmeldung ab 01
 .04.2023
DESCRIPTION:Das Gehen am kurzen Seil im Fels\, Eis\, Firn und im kombiniert
 en Gelände ist neben der Lawinenfrage sicher das komplexeste und heikels
 te Thema. Es verlangt grosse Erfahrung. Genaues Beurteilen der jeweiligen
  Situation\, richtiges Entscheiden und entsprechendes Verhalten sind von 
 grösster Wichtigkeit. Es ist somit in seiner Komplexität auch in der Aus
 bildung ein Thema\, welches sehr viel Zeit in Anspruch nimmt und ständig
  gelehrt und praktiziert werden muss. Verhältnisse – Gelände – Mens
 ch sind die entscheidenden Faktoren die der Seilführende in sein Risikom
 anagement einbeziehen muss.\n\n&nbsp\;\n\nJede Situation am Berg ist letzt
 endlich einzigartig. Es gibt unzählige Kombinationsmöglichkeiten aus ve
 rschiedenen Parametern. Während der Ausbildung werden wir in Verbindung m
 it Gesprächen und Diskussionen das Gehen am kurzen Seil praxisbezogen im
  entsprechenden Gelände üben.\n\n&nbsp\;\n\n\n\nAnmeldung möglich ab:\
 n01.04.2023\, 07:00\, Anmeldung ist verbindlich\n\n\nSchwierigkeit\nTouren
 erfahrung\, Grundkurse\n\n\nEckdaten\nKursort: Weissmiesgebiet/Riffelhorn 
 (je nach Verhältnissen)\n\n\nAusrüstung\nDetails folgen\n\n\nTreffpunkt\
 nDetails folgen\n\n\nTeilnehmerzahl\n16\n\n\n\n&nbsp\;
CATEGORIES:SAC Tour
END:VEVENT
BEGIN:VTIMEZONE
TZID:Europe/Zurich
X-LIC-LOCATION:Europe/Zurich
BEGIN:DAYLIGHT
DTSTART:20230326T030000
TZOFFSETFROM:+0100
TZOFFSETTO:+0200
TZNAME:CEST
END:DAYLIGHT
END:VTIMEZONE
END:VCALENDAR