BEGIN:VCALENDAR
VERSION:2.0
PRODID:-//wp-events-plugin.com//7.2.3.1//EN
TZID:Europe/Zurich
X-WR-TIMEZONE:Europe/Zurich
BEGIN:VEVENT
UID:137@sac-saas.ch
DTSTART;TZID=Europe/Zurich;VALUE=DATE:20230528
DTEND;TZID=Europe/Zurich;VALUE=DATE:20230529
DTSTAMP:20230525T183001Z
URL:https://sac-saas.ch/events/fortbildung-bergmedizin-anmeldung-ab-01-04-
 2023/
SUMMARY:Fortbildung Bergmedizin / Anmeldung ab 01.04.2023
DESCRIPTION:Bergsteigen ist gesund\, fördert Kraft und Ausdauer und tut Se
 ele und Geist gut. Die Zeit in den Bergen bringt aber auch ein gewisses Ri
 siko mit sich. Obwohl wir in den meisten Fällen auf ein sehr gut funktion
 ierendes Rettungssystem vertrauen können\, sollten wir als Bergsteiger (u
 nd Tourenleiter) bis zum Eintreffen professioneller Hilfe Notfallsituation
 en erkennen\, und die wichtigsten Erste Hilfe Massnahmen ergreifen können
 . Eine solide Grundlage in Erster Hilfe kann im Notfall Leben retten. Umso
  wichtiger sind diese Kenntnisse in Situationen\, bei denen die organisier
 te Rettung nicht helfen kann (schlechtes Flugwetter\, Nebel\, etc.).\n\nUn
 ter anderem werden wir folgende Themen besprechen:\n\n 	Rucksackapotheke\n
  	Beurteilung der Situation\n 	Verhalten bei einem Unfall\n 	Notruf - Meld
 en eines Notfalls/Rettungsstation kontaktieren\n 	Verhalten beim eintreffe
 nden Heli\n 	Lebensrettende Sofortmassnahmen\n 	Allgemeine Erste Hilfe Mas
 snahmen\n 	Patientenbeurteilung nach dem Schema CABCDE\n 	Wunden\, Blutung
 skontrolle\n 	Muskelzerrungen\n 	Quetschungen/Prellungen\n 	Knochenbrüche
 \n 	Wirbelverletzungen\n 	Lokale Erfrierungen\n 	Allgemeine Unterkühlung\
 n 	Hitze- und Sonnenschäden\n 	Höhenkrankheit: AMS\, Höhenhirnödem (HA
 CE)\, Höhenlungenödem (HAPE)\n 	Reanimation\n\n\n\n\nAnmeldung möglich 
 ab:\n01.04.2023\, 07:00\, Anmeldung ist verbindlich\n\n\nSchwierigkeit\n\n
 \n\nEckdaten\nKursort: Saas Grund\, Mittagessen Hotel ALpha\n\n\nAusrüstu
 ng\n\n\n\nTreffpunkt\n9.00 Uhr Schulhaus Saas Grund\n\n\nTeilnehmerzahl\n2
 0\n\n\n\n&nbsp\;
CATEGORIES:SAC Tour
END:VEVENT
BEGIN:VTIMEZONE
TZID:Europe/Zurich
X-LIC-LOCATION:Europe/Zurich
BEGIN:DAYLIGHT
DTSTART:20230326T030000
TZOFFSETFROM:+0100
TZOFFSETTO:+0200
TZNAME:CEST
END:DAYLIGHT
END:VTIMEZONE
END:VCALENDAR