BEGIN:VCALENDAR
VERSION:2.0
PRODID:-//wp-events-plugin.com//7.2.3.1//EN
TZID:Europe/Zurich
X-WR-TIMEZONE:Europe/Zurich
BEGIN:VEVENT
UID:623@sac-saas.ch
DTSTART;TZID=Europe/Zurich;VALUE=DATE:20260530
DTEND;TZID=Europe/Zurich;VALUE=DATE:20260531
DTSTAMP:20260311T104113Z
URL:https://sac-saas.ch/events/fk-tourenleiter-sommer-anmeldung-ab-30-04-2
 6/
SUMMARY:FK Tourenleiter Sommer / Anmeldung ab 30.04.2026
DESCRIPTION:&nbsp\;\n\n\n\nAnmeldung ab:\n30.04.2026\n\n\nSchwierigkeit\n\n
 \n\nEckdaten\n↑↓ / ↑ ↓\n\n\nAusrüstung\n\n\n\nTreffpunkt\n\n\n\nT
 eilnehmerzahl\n\n\n\n\n&nbsp\;
CATEGORIES:Ausbildungskurs,SAC Tour
END:VEVENT
BEGIN:VTIMEZONE
TZID:Europe/Zurich
X-LIC-LOCATION:Europe/Zurich
BEGIN:DAYLIGHT
DTSTART:20260329T030000
TZOFFSETFROM:+0100
TZOFFSETTO:+0200
TZNAME:CEST
END:DAYLIGHT
END:VTIMEZONE
END:VCALENDAR