BEGIN:VCALENDAR
VERSION:2.0
PRODID:-//wp-events-plugin.com//7.2.3.1//EN
TZID:Europe/Zurich
X-WR-TIMEZONE:Europe/Zurich
BEGIN:VEVENT
UID:15@sac-saas.ch
DTSTART;TZID=Europe/Zurich;VALUE=DATE:20221203
DTEND;TZID=Europe/Zurich;VALUE=DATE:20221204
DTSTAMP:20221202T173610Z
URL:https://sac-saas.ch/events/fk-tl-winter/
SUMMARY:FK TL Winter / Anmeldung ab 06.11.2022
DESCRIPTION:Details folgen…Anmeldungen ab sofort möglich.\n\nFalls Kurs 
 nicht ausgebucht: Sommer TL und Mitglieder\, die regelmässig auf Skitour 
 gehen\,  können sich gerne anmelden. Kurskosten (ausser Winter-TL): 50 F
 r.\n\n\n\nAnmeldung möglich ab:\n06.11.2022\, 07:00\n\n\nSchwierigkeit\n\
 n\n\nVoraussetzung\nvorrangig Winter-TL\n\n\nAusrüstung\n\n\n\nTreffpunkt
 \n\n\n\nTeilnehmerzahl\n10 plus BF\n\n\n\n&nbsp\;
CATEGORIES:Ausbildungskurs,SAC Tour
END:VEVENT
BEGIN:VTIMEZONE
TZID:Europe/Zurich
X-LIC-LOCATION:Europe/Zurich
BEGIN:STANDARD
DTSTART:20221030T020000
TZOFFSETFROM:+0200
TZOFFSETTO:+0100
TZNAME:CET
END:STANDARD
END:VTIMEZONE
END:VCALENDAR