BEGIN:VCALENDAR
VERSION:2.0
PRODID:-//wp-events-plugin.com//7.2.3.1//EN
TZID:Europe/Zurich
X-WR-TIMEZONE:Europe/Zurich
BEGIN:VEVENT
UID:469@sac-saas.ch
DTSTART;TZID=Europe/Zurich;VALUE=DATE:20250705
DTEND;TZID=Europe/Zurich;VALUE=DATE:20250707
DTSTAMP:20250503T142036Z
URL:https://sac-saas.ch/events/fiera-san-bernardo-macugnaga-anmeldung-ab-0
 4-05-2025/
SUMMARY:Fiera San Bernardo\, Macugnaga/ Anmeldung ab 04.05.2025
DESCRIPTION:An der jährlichen fiera San Bernardo kommt diese Verbundenheit
  besonders stark zum Ausdruck. Aus allen Tälern rund um die Monte Rosa fi
 nden sich Delegationen zum jährlichen Treffen ein. Da werden alte Freunds
 chaften aufgefrischt\, da wird gelacht und geschwatzt. Alle fühlen sich m
 iteinander verbunden.\n\n\n\nAnmeldung ab:\n\n\n\nSchwierigkeit\n\n\n\nEck
 daten\n\n\n\nAusrüstung\n\n\n\nTreffpunkt\n\n\n\nTeilnehmerzahl\n30\n\n\n
 \n&nbsp\;
CATEGORIES:Clubanlass,SAC Tour
END:VEVENT
BEGIN:VTIMEZONE
TZID:Europe/Zurich
X-LIC-LOCATION:Europe/Zurich
BEGIN:DAYLIGHT
DTSTART:20250330T030000
TZOFFSETFROM:+0100
TZOFFSETTO:+0200
TZNAME:CEST
END:DAYLIGHT
END:VTIMEZONE
END:VCALENDAR