BEGIN:VCALENDAR
VERSION:2.0
PRODID:-//wp-events-plugin.com//7.2.3.1//EN
TZID:Europe/Zurich
X-WR-TIMEZONE:Europe/Zurich
BEGIN:VEVENT
UID:334@sac-saas.ch
DTSTART;TZID=Europe/Zurich;VALUE=DATE:20240706
DTEND;TZID=Europe/Zurich;VALUE=DATE:20240708
DTSTAMP:20240701T194555Z
URL:https://sac-saas.ch/events/fiera-di-san-bernardo-macugnaga-anmeldung-a
 b-01-06-2024/
SUMMARY:ABGESAGT Fiera di San Bernardo\, Macugnaga / Anmeldung ab 01.06.202
 4
DESCRIPTION:Wegen den Unwettern abgesagt!!\n\n\n\n\n\n\n\nSchwierigkeit\n\n
 \n\nEckdaten\n\n\n\nAusrüstung\n\n\n\nTreffpunkt\n\n\n\nTeilnehmerzahl\n\
 n\n\n\n&nbsp\;
CATEGORIES:SAC Tour
END:VEVENT
BEGIN:VTIMEZONE
TZID:Europe/Zurich
X-LIC-LOCATION:Europe/Zurich
BEGIN:DAYLIGHT
DTSTART:20240331T030000
TZOFFSETFROM:+0100
TZOFFSETTO:+0200
TZNAME:CEST
END:DAYLIGHT
END:VTIMEZONE
END:VCALENDAR