BEGIN:VCALENDAR
VERSION:2.0
PRODID:-//wp-events-plugin.com//7.2.3.1//EN
TZID:Europe/Zurich
X-WR-TIMEZONE:Europe/Zurich
BEGIN:VEVENT
UID:127@sac-saas.ch
DTSTART;TZID=Europe/Zurich;VALUE=DATE:20230707
DTEND;TZID=Europe/Zurich;VALUE=DATE:20230710
DTSTAMP:20230622T082034Z
URL:https://sac-saas.ch/events/fiera-di-san-bernado-macugnaga/
SUMMARY:Fiera di San Bernado\, Macugnaga / Anmeldung ab 07.06.2023
DESCRIPTION:Bei der Fiera di San Bernardo handelt es sich um einen traditio
 nellen Feiertag zu Ehren des heiligen Bernhard\, dem Schutzpatron der Alpe
 nbewohner und der Bergsteiger. An diesem Wochenende finden sich zahlreiche
  Bewohner aller Täler rund um die Monte-Rosa in Macugnaga ein. Am Samstag
  treffen sich die Menschen auf dem Markt auf dem traditionelles Handwerk a
 ngeboten wird. Zudem können die Künstler\, welche jeweils eine Holzskulp
 tur zu einem vorgegeben Thema schaffen\, bei ihrer Arbeit beobachtet werde
 n. Unser Freund Eduardo bäckt im alten öffentlichen Backofen das beliebt
 e Walserbrot. Die Kinder werden mit Spielen und Märchen verwöhnt. Die Me
 nschen aus nah und fern lassen alte Freundschaften aufleben und geniessen 
 das bunte Treiben.\nAm Sonntag findet dann der Gottesdienst mit anschliess
 ender Prozession zur alten Kirche statt. Auch wir sind mit von der Partie 
 und stellen jeweils eine stattliche Delegation\, wobei wir uns jeweils in 
 der Saaser- oder Wallisertracht präsentieren. Wer gerne mal im Mittelpunk
 t steht\, muss unbedingt mitmachen. Wir werden jeweils in Scharen von Foto
 grafen belagert und portraitiert. Manuela und German organisieren nach dem
  Gottesdienst ein gemütliches Aperitif\, wir geniessen das Zusammensein u
 nd haben uns sicher wieder viel zu erzählen.\n\nWer will fährt anschlies
 send nach Hause\, wer mag geniesst den Tag und den Sonntagabend in Macugna
 ga und macht sich am Montag auf den Heimweg.\n\nDie An- und Heimreise erfo
 lgt jeweils individuell. Für die Hotelreservierung ist jeder selber veran
 twortlich. Es ist aber auch möglich erst am Sonntag Morgen anzureisen.\n\
 nIch freue mich auf dieses Wochenende\, es ist jedesmal ein grosses Erlebn
 is.\n\nAndré Zurbriggen (079 712 33 65)\n\n&nbsp\;\n\n\n\nAnmeldung mögl
 ich ab:\n07.06.2023\, 07:00\n\n\nSchwierigkeit\n\n\n\nEckdaten\n\n\n\nAusr
 üstung\n\n\n\nTreffpunkt\n\n\n\nTeilnehmerzahl\n20\n\n\n\n&nbsp\;
CATEGORIES:SAC Tour
END:VEVENT
BEGIN:VTIMEZONE
TZID:Europe/Zurich
X-LIC-LOCATION:Europe/Zurich
BEGIN:DAYLIGHT
DTSTART:20230326T030000
TZOFFSETFROM:+0100
TZOFFSETTO:+0200
TZNAME:CEST
END:DAYLIGHT
END:VTIMEZONE
END:VCALENDAR