BEGIN:VCALENDAR
VERSION:2.0
PRODID:-//wp-events-plugin.com//7.2.3.1//EN
TZID:Europe/Zurich
X-WR-TIMEZONE:Europe/Zurich
BEGIN:VEVENT
UID:126@sac-saas.ch
DTSTART;TZID=Europe/Zurich;VALUE=DATE:20230521
DTEND;TZID=Europe/Zurich;VALUE=DATE:20230522
DTSTAMP:20230515T125624Z
URL:https://sac-saas.ch/events/festival-der-natur-wanderung-frauenschuh-im
 -gasterntal/
SUMMARY:Festival der Natur\, Botanische Wanderung im Gasterntal" / Anmeldun
 g ab 21.04.2023
DESCRIPTION:&nbsp\;\n\n\n\nAnmeldung möglich ab:\n21.04.2023\, 07:00\n\n\n
 Schwierigkeit\nT2\n\n\nEckdaten\n ↑ 390Hm  ↓ 16 Hm -&gt\;3 h\n\n\nAu
 srüstung\nWanderschuhe\, wetterfeste Kleidung\, Getränke und Verpflegung
  für unterwegs\n\n\nTreffpunkt\nBahnhof Kandersteg um 10:14 Uhr / Retour 
 ab Selden mit Privatbus ca.16 Uhr Fahrkosten CHF 20.-\n\n\nTeilnehmerzahl\
 n10\n\n\n\nBeim Gasterntal oberhalb von Kandersteg kommt auf kleinem Raum 
 sowohl Kalkgestein\, wie auch kristallines Urgestein vor. Dank dieser unte
 rschiedlichen Gesteinsformationen finden wir dort eine vielfältige Flora.
   Im wildromantischen Tal blühen viele verschiedene Orchideenarten unter
  anderem der Frauenschuh\, eine eher seltene Pflanze die aber am Gasternta
 l ihren Gefallen gefunden hat.\n\nKöbi und Hilda freuen sich darauf Euch 
 auf dieser botanischen Entdeckertour zu begleiten.
CATEGORIES:SAC Tour
END:VEVENT
BEGIN:VTIMEZONE
TZID:Europe/Zurich
X-LIC-LOCATION:Europe/Zurich
BEGIN:DAYLIGHT
DTSTART:20230326T030000
TZOFFSETFROM:+0100
TZOFFSETTO:+0200
TZNAME:CEST
END:DAYLIGHT
END:VTIMEZONE
END:VCALENDAR