BEGIN:VCALENDAR
VERSION:2.0
PRODID:-//wp-events-plugin.com//7.2.3.1//EN
TZID:Europe/Zurich
X-WR-TIMEZONE:Europe/Zurich
BEGIN:VEVENT
UID:355@sac-saas.ch
DTSTART;TZID=Europe/Zurich;VALUE=DATE:20240805
DTEND;TZID=Europe/Zurich;VALUE=DATE:20240806
DTSTAMP:20240731T051946Z
URL:https://sac-saas.ch/events/fest-maria-zum-schnee-mo-05-august-2024-fue
 r-kurzentschlossene-anmeldung-bis-31-08-2024/
SUMMARY:Fest "Maria zum Schnee" Mo. 05. August 2024 - für Kurzentschlossen
 e - Anmeldung bis 31.08.2024
DESCRIPTION:Es ist dieses Jahr leider nicht möglich\, den Pilgergang auf d
 en Monte-Moro-Pass unter die Füsse zu nehmen. Die Unwetter von anfangs Ju
 li haben zu grosse Schäden am Weg verursacht.\n\nDer Gottesdienst auf dem
  Pass wird gefeiert. Das wurde uns von der italienischen Seite bestätigt.
 \n\nEs besteht nun die Möglichkeit\, dass wir mit dem Bus vom Saastal via
  SimplonPass nach Macugnaga und wieder zurück fahren. Von Macugnaga mit d
 er Luftseilbahn auf den Monte-Moro-Pass.\n\nPreis Fr.60.-\, inklusive Luft
 seilbahn. Fr.50.--nur Macugnaga\, ohne Luftseilbahn.\n\nUm einen grössere
 n Bus organisieren zu können\, müssten wir genug Anmeldungen haben.\n\nW
 ir bitten Euch somit\, Euch bis am Mittwoch-Abend\, 31. Juli 2024\, bei My
 rta Burgener\, Tel.077 490 10 17 anzumelden.\n\nAnschluss von Saas-Fee (re
 gulärer Kurs):\n\nSaas-Fee ab: 6.30\n\nSaas-Grund an: 6.37\n\nSaas-Almage
 ll ab: 6.27\n\nSaas-Grund ab: 6.40\n\nSaas-Balen ab: 6.45\n\nMacugnaga an:
  9.30\n\n11.00 Messfeier auf dem Monte-Moro-Pass (2868 m ü. M.) zu Füsse
 n der Madonna delle Nevi auf italienisch-deutsch. Wetterfeste Kleidung ist
  empfehlenswert!\n\nMittagessen ist im Rifugio Oberto-Maroli möglich. Pla
 tzreservierung ebenfalls bei Myrta Burgener (siehe oben).\n\nAm Nachmittag
  : Rückreise mit dem Extra-Bus: Macugnaga ab: 16.30
CATEGORIES:SAC Tour
END:VEVENT
BEGIN:VTIMEZONE
TZID:Europe/Zurich
X-LIC-LOCATION:Europe/Zurich
BEGIN:DAYLIGHT
DTSTART:20240331T030000
TZOFFSETFROM:+0100
TZOFFSETTO:+0200
TZNAME:CEST
END:DAYLIGHT
END:VTIMEZONE
END:VCALENDAR