BEGIN:VCALENDAR
VERSION:2.0
PRODID:-//wp-events-plugin.com//7.2.3.1//EN
TZID:Europe/Zurich
X-WR-TIMEZONE:Europe/Zurich
BEGIN:VEVENT
UID:90@sac-saas.ch
DTSTART;TZID=Europe/Zurich;VALUE=DATE:20230429
DTEND;TZID=Europe/Zurich;VALUE=DATE:20230430
DTSTAMP:20230427T175844Z
URL:https://sac-saas.ch/events/eroeffnungswanderung-im-sueden/
SUMMARY:Eröffnungswanderung im Süden / Auf alten Pfaden durchs Val Vigezz
 o
DESCRIPTION:Tour ausgebucht - keine Warteliste\n\nDie Eröffnungswanderung 
 findet im Val Vigezzo statt. Wir lehnen uns an das Konzept vom letzten Jah
 r an. Morgens begeben wir uns auf eine gemütliche Wanderung. Unterwegs fi
 nden wir Gelegenheit alte Freundschaften aufleben zu lassen und im bekannt
 en Val Vigezzo viel Unbekanntes zu entdecken.\n\nWir sorgen für viel Raum
  für Begenung und Kulinarik. Nehmt einen leichten Rucksack mit Getränken
  mit und lasst euch überraschen. Die Gesamtkosten für den ganzen Tag bew
 egen sich um CHF 100.- plus CHF 15.- SAC Beitrag pro Person. Wir führen e
 ine Gemeinschaftskasse.\n\n\nMit Pauli-Reisen fahren wir vom Saastal nach 
 Italien. Unterwegs könnt ihr gemäss dem nachfolgenden Fahrplan einsteige
 n.\n\n06:35 Saas-Fee:\nSabine\, Mieke\, Anita\n\n06:45 Zerbriggo:\nArmida\
 n\n06:50 Saas-Grund:\nGermano uno\, Sonja\, Amadé\, Diana\, Fidelis\,\n\n
 06:55 Biedermatten:\nAndré\, Manuela\n\n07:00 Saas-Balen:\nAlbert\n\n07:3
 0 Visp Bahnhof:\nIrene\, Robi\, Philiberta\, GermanoDue\, Georges\, Alfons
 \, Edith\, Gaby\, Edi\, Köbi\n\n07:35 Eyholz:\nAndrea\, Mario\n\n07:40 Br
 ig Bahnhof:\nRosmarie\, Raphaela\, Simone\, Astrid\, Dominic\n\n&nbsp\;\n\
 n\n\nAnmeldung möglich ab:\n29.03.2023\, 07:00\n\n\nSchwierigkeit\nT1\n\n
 \nEckdaten\n ↑ 45 Hm  ↓ 400 Hm -&gt\; 2 h\n\n\nAusrüstung\nLeichte 
 Wanderausrüstung mit Witterungsschutz\, GA / Halbtax\, ID\, Getränke\, f
 ür Verpflegung ist gesorgt\n\n\nTreffpunkt\nsiehe oben\n\n\nTeilnehmerzah
 l\n30\n\n\n\n&nbsp\;
CATEGORIES:SAC Tour
END:VEVENT
BEGIN:VTIMEZONE
TZID:Europe/Zurich
X-LIC-LOCATION:Europe/Zurich
BEGIN:DAYLIGHT
DTSTART:20230326T030000
TZOFFSETFROM:+0100
TZOFFSETTO:+0200
TZNAME:CEST
END:DAYLIGHT
END:VTIMEZONE
END:VCALENDAR