BEGIN:VCALENDAR
VERSION:2.0
PRODID:-//wp-events-plugin.com//7.2.3.1//EN
TZID:Europe/Zurich
X-WR-TIMEZONE:Europe/Zurich
BEGIN:VEVENT
UID:445@sac-saas.ch
DTSTART;TZID=Europe/Zurich;VALUE=DATE:20250503
DTEND;TZID=Europe/Zurich;VALUE=DATE:20250504
DTSTAMP:20250502T210633Z
URL:https://sac-saas.ch/events/eroeffnungswanderung-im-sueden-anmeldung-ab
 -03-04-2025/
SUMMARY:Eröffnungswanderung im Süden / Anmeldung ab 03.04.2025
DESCRIPTION:\nOrnavasso oder in Titsch Urnafasch bis ins 19. Jahrhundert hi
 nein eine deutsche Sprachinsel\nOrnavasso\, ein malerisches Dorf im Piemon
 t am Rand der Alpen\, ist reich an Geschichte\, Natur und Spiritualität. 
 Besonders bekannt ist die Linea Cadorna\, ein beeindruckendes militärisch
 es Verteidigungssystem aus dem Ersten Weltkrieg. Die gut erhaltenen Festun
 gsanlagen und Tunnel ziehen Wanderer und Geschichtsinteressierte gleicherm
 aßen an.\n\nEin besonderes Highlight ist die Antica Trattoria del Boden\,
  ein traditionelles Restaurant\, das mit regionaler Küche und herzlicher 
 Atmosphäre begeistert. Auf der ständigen Suche nach traditionellen Rezep
 ten und unter Verwendung von Produkten aus der Region\, freuen wir uns\, e
 uch unsere Spezialitäten schmecken zu lassen: die „Pfifulti“\, die 
 „Tafulti“\, die frischen Nudeln der Tradition\, das ausgewählte Fleis
 ch\, das Wild\, die Käsesorten der Almen der Region und unsere Desserts\,
  alles streng hausgemacht und begleitet von Weinen aus dem Ossola-Tal.\n\n
 Ganz in der Nähe liegt das Santuario della Madonna del Boden\, ein bedeut
 ender Wallfahrtsort inmitten des Waldes. Das im 16. Jahrhundert erbaute He
 iligtum ist nicht nur spirituell\, sondern auch architektonisch fasziniere
 nd.\n\nVon dort aus führt die Via Crucis – ein Kreuzweg mit 15 Statione
 n – durch die ruhige Landschaft hinunter. Die in Stein gemeißelten Stat
 ionen laden zur stillen Andacht ein und bieten dabei immer wieder atembera
 ubende Ausblicke auf das Ossola-Tal.\n\nEin weiteres spirituelles Ziel ist
  das Santuario della Madonna della Guardia\, das über Ornavasso thront. E
 s ist ein Ort des Friedens und der Einkehr\, mit einer bewegenden Geschich
 te und einem einzigartigen Panorama.\n\nOrnavasso vereint alpine Schönhei
 t\, historische Bedeutung und tief verwurzelten Glauben – ein Geheimtipp
  für alle\, die Kultur und Natur in harmonischer Verbindung erleben möch
 ten.\n\n\n\n\n\n\n\n\n\nSchwierigkeit\nT2\n\n\nEckdaten\n11 km / 350hm hoc
 h und runter / 31/2 h Laufzeit\n\n\nAusrüstung\nLeichter Wanderrucksack m
 it Regenschutz\, Taschenlampe\n\n\nTreffpunkt\nMit Privatautos ca. 06:00 a
 b Saastal\, genaue Zeiten folgen noch\n\n\nTeilnehmerzahl\n25\n\n\n\n&nbsp
 \;
CATEGORIES:SAC Tour
END:VEVENT
BEGIN:VTIMEZONE
TZID:Europe/Zurich
X-LIC-LOCATION:Europe/Zurich
BEGIN:DAYLIGHT
DTSTART:20250330T030000
TZOFFSETFROM:+0100
TZOFFSETTO:+0200
TZNAME:CEST
END:DAYLIGHT
END:VTIMEZONE
END:VCALENDAR