BEGIN:VCALENDAR
VERSION:2.0
PRODID:-//wp-events-plugin.com//7.2.3.1//EN
TZID:Europe/Zurich
X-WR-TIMEZONE:Europe/Zurich
BEGIN:VEVENT
UID:272@sac-saas.ch
DTSTART;TZID=Europe/Zurich;VALUE=DATE:20240518
DTEND;TZID=Europe/Zurich;VALUE=DATE:20240519
DTSTAMP:20240509T214121Z
URL:https://sac-saas.ch/events/eroeffnungswanderung-im-sueden-anmeldung-ab
 -01-03-2024/
SUMMARY:Verschoben - Gletschergarten im Antigorio - Eröffnungswanderung im
  Süden
DESCRIPTION:Neuer Termin: Samstag 18.05.2024\nLiebe Vereinskollegen\,\n\nic
 h hoffe\, ihr seid alle wohlauf. Es tut mir leid\, euch mitteilen zu müss
 en\, dass wir aufgrund der schlechten Wetterbedingungen unsere geplante Er
 öffnungswanderung im Süden am kommenden Samstag absagen müssen. Die sta
 rken Regenfälle und niedrigen Temperaturen machen es einfach nicht mögli
 ch\, die Wanderung durchzuführen.\n\nAls Ersatztermin ist Samstag 18.05.2
 024 geplant - eine Neuanmeldung ist erforderlich!\n\nVielen Dank für eure
  Unterstützung und bis bald!\n\nBeste Grüsse\nDominic\nDie Uriezzo-Schlu
 cht\nWusstest du\, dass es auch im Piemont Schluchten gibt? Ja\, im Antigo
 rio gibt es eine Reihe von Schluchten\, die von Bächen in den Granit gegr
 aben wurden\, die in der Vergangenheit flussabwärts des Toce-Gletschers f
 lossen und als Orridi di Uriezzo bekannt sind.\n\nDie Orridi di Uriezzo si
 nd eine Perle des Piemonts\, die dich mit ihren Landschaften und Farben be
 geistern wird\, die du schüchtern mit dem wenigen Licht entdecken kannst\
 , das durch die Felsspalten fällt\, aus denen sich an schönen Tagen der 
 blaue Himmel abzeichnet. Wenn du durch diese Schluchten wanderst\, ist es 
 ein bisschen so\, als würdest du durch die Zeit gehen und die Kraft der N
 atur spüren\, die wieder einmal ein unglaubliches Spektakel geschaffen ha
 t.\n\nLass dich überraschen und von einem Naturschauspiel verführen!\n\n
 Im frühen Nachmittag kehren wir zurück nach Crodo\, besteigen unser Fahr
 zeug und fahren ins Nahe Restaurant. Hier lassen wir uns von der berühmte
 n Gastfreundschaft des Ossolas kulinarisch verführen.\n\nKosten:\n\nKulin
 arik 55.-\nSAC 15.-\nTransport nach Absprache mit Fahrer\n\n\n\nAnmeldung 
 möglich ab:\n01.03.2024\n\n\nSchwierigkeit\nleicht\n\n\nEckdaten\n↑200h
 m  ↓ 200hm → 5km\n\n\nAusrüstung\nWanderschuhe\, leichter Wanderruck
 sack mit Regenschutz\, Getränke für unterwegs\, für Kulinarik unterwegs
  ist gesorgt\n\n\nTreffpunkt\nWird noch ausgearbeitet\n\n\nTeilnehmerzahl\
 n30\n\n\n\n&nbsp\;
CATEGORIES:SAC Tour,Wanderung
END:VEVENT
BEGIN:VTIMEZONE
TZID:Europe/Zurich
X-LIC-LOCATION:Europe/Zurich
BEGIN:DAYLIGHT
DTSTART:20240331T030000
TZOFFSETFROM:+0100
TZOFFSETTO:+0200
TZNAME:CEST
END:DAYLIGHT
END:VTIMEZONE
END:VCALENDAR