BEGIN:VCALENDAR
VERSION:2.0
PRODID:-//wp-events-plugin.com//7.2.3.1//EN
TZID:Europe/Zurich
X-WR-TIMEZONE:Europe/Zurich
BEGIN:VEVENT
UID:96@sac-saas.ch
DTSTART;TZID=Europe/Zurich;VALUE=DATE:20230115
DTEND;TZID=Europe/Zurich;VALUE=DATE:20230116
DTSTAMP:20230113T113319Z
URL:https://sac-saas.ch/events/eisklettern-saastal/
SUMMARY:JO/KiBe Eisklettern Saastal
DESCRIPTION:Ein Tag Eisklettern im Saas\, je nach Verhältnissen. Das gefro
 hrene Nass hochzuklettern macht mit der richtigen Ausrüstung enorm viel S
 pass. Auch Anfänger sind willkommen.\n\n\n\n\nSchwierigkeit\nleicht\n\n\n
 Anmeldeschluss\n 12.1\n\n\nAusrüstung\nKlettergurt\, Helm\, Bergschuhe\,
  Steigeisen\, warme Kleidung\, 2 Paar Handschuhe\, Lunch und Thermos\, fal
 ls vorhanden Eispickel und Sicherungsgerät\n\n\nTreffpunkt\n10.00 Saas Gr
 und Talstation\n\n\nKosten\n10.-\n\n\n\n&nbsp\;
CATEGORIES:SAC JO,SAC KIBE
END:VEVENT
BEGIN:VTIMEZONE
TZID:Europe/Zurich
X-LIC-LOCATION:Europe/Zurich
BEGIN:STANDARD
DTSTART:20221030T020000
TZOFFSETFROM:+0200
TZOFFSETTO:+0100
TZNAME:CET
END:STANDARD
END:VTIMEZONE
END:VCALENDAR