BEGIN:VCALENDAR
VERSION:2.0
PRODID:-//wp-events-plugin.com//7.2.3.1//EN
TZID:Europe/Zurich
X-WR-TIMEZONE:Europe/Zurich
BEGIN:VEVENT
UID:160@sac-saas.ch
DTSTART;TZID=Europe/Zurich;VALUE=DATE:20230104
DTEND;TZID=Europe/Zurich;VALUE=DATE:20230105
DTSTAMP:20230103T210225Z
URL:https://sac-saas.ch/events/eisklettern-saas-fee-anmeldung-ab-sofort/
SUMMARY:Eisklettern Saas Fee / Anmeldung ab sofort
DESCRIPTION:Hallo zusammen\n\nDa das Eis im Chalchofen zur Zeit nicht klett
 erbar ist\, gehen wir nach Saas-Fee. Es hat nur eine Route im Eis und eine
  für's Dry-tooling.\n\nBitte bei mir anmelden\, da nicht so viele Möglic
 hkeiten zum Klettern gibt.\n\nGruss und Dank\n\nMichael\n\n\n\nAnmeldung m
 öglich ab:\nsofort über Whats App oder SMS\, 0794475741\n\n\nSchwierigke
 it\nEs ist schwieriger und braucht mehr Erfahrung und Können. Nicht für 
 jedermann.\n\n\nEckdaten\n ↑ xxx Hm  ↓ xxx Hm -&gt\; x h\n\n\nAusrü
 stung\n\n\n\nTreffpunkt\nSaas Fee\, 18:00\n\n\nTeilnehmerzahl\n8\n\n\n\nDa
 s Eisklettern findet am Mittwoch 04.01.2023 in Saas Fee statt!!!
CATEGORIES:Klettern,SAC Tour
END:VEVENT
BEGIN:VTIMEZONE
TZID:Europe/Zurich
X-LIC-LOCATION:Europe/Zurich
BEGIN:STANDARD
DTSTART:20221030T020000
TZOFFSETFROM:+0200
TZOFFSETTO:+0100
TZNAME:CET
END:STANDARD
END:VTIMEZONE
END:VCALENDAR