BEGIN:VCALENDAR
VERSION:2.0
PRODID:-//wp-events-plugin.com//7.2.3.1//EN
TZID:Europe/Zurich
X-WR-TIMEZONE:Europe/Zurich
BEGIN:VEVENT
UID:300@sac-saas.ch
DTSTART;TZID=Europe/Zurich;VALUE=DATE:20240123
DTEND;TZID=Europe/Zurich;VALUE=DATE:20240124
DTSTAMP:20231123T215518Z
URL:https://sac-saas.ch/events/eisklettern-in-anzere-2024-anmeldung-ab-23-
 12-23-3/
SUMMARY:Eisklettern in Anzère 2024 / Anmeldung ab 23.12.23
DESCRIPTION:Text\n\n\n\nAnmeldung möglich ab:\n 23.12.2023\n\n\nSchwierig
 keit\n Einfach\n\n\nEckdaten\n\n\n\nAusrüstung\nSteigeisen\n\nKlettergur
 t\n\nPickel\n\n\nTreffpunkt\nAnzère\n\n\nTeilnehmerzahl\n6 inkl. TL\n\n\n
 \nIm Eispark von Anzère hat es diverse Eiskletterrouten für Anfänger un
 d Fortgeschrittene.
CATEGORIES:SAC Tour
END:VEVENT
BEGIN:VTIMEZONE
TZID:Europe/Zurich
X-LIC-LOCATION:Europe/Zurich
BEGIN:STANDARD
DTSTART:20231029T020000
TZOFFSETFROM:+0200
TZOFFSETTO:+0100
TZNAME:CET
END:STANDARD
END:VTIMEZONE
END:VCALENDAR