BEGIN:VCALENDAR
VERSION:2.0
PRODID:-//wp-events-plugin.com//7.2.3.1//EN
TZID:Europe/Zurich
X-WR-TIMEZONE:Europe/Zurich
BEGIN:VEVENT
UID:463@sac-saas.ch
DTSTART;TZID=Europe/Zurich;VALUE=DATE:20250226
DTEND;TZID=Europe/Zurich;VALUE=DATE:20250227
DTSTAMP:20250224T143417Z
URL:https://sac-saas.ch/events/eisklettern-im-chalchofen-anmeldung-bis-12-
 feb-25-um-1600-uhr/
SUMMARY:ABGESAGT Eisklettern im Chalchofen / Anmeldung bis 26.Feb.25 um 16:
 00 Uhr
DESCRIPTION:Diese Temperaturen machen unserem Eis zu schaffen!\n\nMelde hie
 r auf der Homepage\, ob wir nicht mehr Eisklettern gehen werden!\n\nWenn j
 a: werden wir gegen 17:30 Uhr bereit sein.\n\nBitte alle über Whats App o
 der SMS anmelden\, damit wir die Stände und Seile bereit machen können.\
 n\n0794475741\n\n\n\nAnmeldung ab:\n\n\n\nSchwierigkeit\n\n\n\nEckdaten\n\
 n\n\nAusrüstung\n\n\n\nTreffpunkt\n\n\n\nTeilnehmerzahl\n15-18 Personen\n
 \n\n\n&nbsp\;
CATEGORIES:Klettern,SAC Tour
END:VEVENT
BEGIN:VTIMEZONE
TZID:Europe/Zurich
X-LIC-LOCATION:Europe/Zurich
BEGIN:STANDARD
DTSTART:20241027T020000
TZOFFSETFROM:+0200
TZOFFSETTO:+0100
TZNAME:CET
END:STANDARD
END:VTIMEZONE
END:VCALENDAR