BEGIN:VCALENDAR
VERSION:2.0
PRODID:-//wp-events-plugin.com//7.2.3.1//EN
TZID:Europe/Zurich
X-WR-TIMEZONE:Europe/Zurich
BEGIN:VEVENT
UID:166@sac-saas.ch
DTSTART;TZID=Europe/Zurich;VALUE=DATE:20230111
DTEND;TZID=Europe/Zurich;VALUE=DATE:20230112
DTSTAMP:20230110T183433Z
URL:https://sac-saas.ch/events/eisklettern-chalchofen-saas-grund-anmeldung
 -ab-05-01-2023/
SUMMARY:Eisklettern Chalchofen Saas-Grund / Anmeldung ab 05.01.2023
DESCRIPTION:Hallo zusammen\n\nDas Eis im Chalchofen ist zur Zeit wieder kle
 tterbar.\nSind am Mittwoch Abend da.\nWerde Änderungen hier immer hinzuf
 ügen.\n\nAnmeldungen über Whats App oder SMS 0794475741.\n\nVielen Dank 
 und Gruss\n\nMichael\n\n\n\nAnmeldung möglich ab:\n05.01.2023\n\n\nSchwie
 rigkeit\nFür Alle\n\n\nEckdaten\n ↑ xxx Hm  ↓ xxx Hm -&gt\; x h\n\n
 \nAusrüstung\n\n\n\nTreffpunkt\nChalchofen\, 18:00\n\n\nTeilnehmerzahl\n2
 0\n\n\n\nWenn das Eis nicht gut sein sollte\, haben wir die Möglichkeit n
 ach Saas-Fee auszuweichen. Dies ist aber strenger und hat weniger Routen. 
 Werde dies spontan veröffentlichen.\n\nAnmeldungen gerne per Whats App od
 er SMS.
CATEGORIES:Klettern,SAC Tour
END:VEVENT
BEGIN:VTIMEZONE
TZID:Europe/Zurich
X-LIC-LOCATION:Europe/Zurich
BEGIN:STANDARD
DTSTART:20221030T020000
TZOFFSETFROM:+0200
TZOFFSETTO:+0100
TZNAME:CET
END:STANDARD
END:VTIMEZONE
END:VCALENDAR