BEGIN:VCALENDAR
VERSION:2.0
PRODID:-//wp-events-plugin.com//7.2.3.1//EN
TZID:Europe/Zurich
X-WR-TIMEZONE:Europe/Zurich
BEGIN:VEVENT
UID:456@sac-saas.ch
DTSTART;TZID=Europe/Zurich;VALUE=DATE:20250205
DTEND;TZID=Europe/Zurich;VALUE=DATE:20250206
DTSTAMP:20250202T191038Z
URL:https://sac-saas.ch/events/eiskletter-im-chalchofen-anmeldung-bis-08-j
 an-25-um-1600-uhr/
SUMMARY:Eisklettern im Chalchofen / Anmeldung bis 05.Feb.25 um 16:00 Uhr
DESCRIPTION:Das Eis im Chalchofen ist bereit. Das Licht funktioniert wieder
  :-). Daher müssen die Teilnehmer nicht unbedingt eine Stirnlampe mitnehm
 en\, ist aber von Vorteil.\n\nPascal und ich werden gegen 17:30 Uhr bereit
  sein.\n\nIch werde folgende Wochen immer bis Montag Abend diese Tour auf 
 der Homepage ankündigen oder absagen.\n\nBitte alle über Whats App oder 
 SMS anmelden\, damit wir die Stände und Seile bereit machen können.\n\n0
 794475741\n\n\n\nAnmeldung ab:\n\n\n\nSchwierigkeit\n\n\n\nEckdaten\n\n\n\
 nAusrüstung\n\n\n\nTreffpunkt\n\n\n\nTeilnehmerzahl\n15-18 Personen\n\n\n
 \n&nbsp\;
CATEGORIES:SAC Tour
END:VEVENT
BEGIN:VTIMEZONE
TZID:Europe/Zurich
X-LIC-LOCATION:Europe/Zurich
BEGIN:STANDARD
DTSTART:20241027T020000
TZOFFSETFROM:+0200
TZOFFSETTO:+0100
TZNAME:CET
END:STANDARD
END:VTIMEZONE
END:VCALENDAR