BEGIN:VCALENDAR
VERSION:2.0
PRODID:-//wp-events-plugin.com//7.2.3.1//EN
TZID:Europe/Zurich
X-WR-TIMEZONE:Europe/Zurich
BEGIN:VEVENT
UID:215@sac-saas.ch
DTSTART;TZID=Europe/Zurich;VALUE=DATE:20240823
DTEND;TZID=Europe/Zurich;VALUE=DATE:20240824
DTSTAMP:20240812T162507Z
URL:https://sac-saas.ch/events/eggerhorn-binn/
SUMMARY:Eggerhorn / Tour ist abgesagt
DESCRIPTION:Das Eggerhorn (2503m) ist neben dem Breithorn oberhalb von Gren
 giols einer der aussichtsreichsten Punkte im Landschaftspark Binntal. Die 
 Vielfalt entlang des Weges und die Aussicht auf die Walliser Gipfel machen
  die Wanderung unvergesslich. Die Tour befindet sich im Landschaftspark Bi
 nntal\, der für seine unberührten Landschaften und die Fauna und Flora b
 ekannt ist. (Binn - Eggerhorn - Alpe Frid - Ernen)\n\n\n\nAnmeldung mögli
 ch ab:\n15.07.2024\n\n\nSchwierigkeit\nT3/T4\n\n\nEckdaten\n ↑ 1115Hm 
  ↓ 1257Hm -&gt\; 7h\n\n\nAusrüstung\nWanderausrüstung und Verpflegung\
 n\n\nTreffpunkt\nBrig 06:15 Uhr Gleis 11 (Abfahrt Zug 06:23Uhr)\n\n\nTeiln
 ehmerzahl\n6 TN  und TL\n\n\n\n&nbsp\;
CATEGORIES:SAC Tour
END:VEVENT
BEGIN:VTIMEZONE
TZID:Europe/Zurich
X-LIC-LOCATION:Europe/Zurich
BEGIN:DAYLIGHT
DTSTART:20240331T030000
TZOFFSETFROM:+0100
TZOFFSETTO:+0200
TZNAME:CEST
END:DAYLIGHT
END:VTIMEZONE
END:VCALENDAR