BEGIN:VCALENDAR
VERSION:2.0
PRODID:-//wp-events-plugin.com//7.2.3.1//EN
TZID:Europe/Zurich
X-WR-TIMEZONE:Europe/Zurich
BEGIN:VEVENT
UID:184@sac-saas.ch
DTSTART;TZID=Europe/Zurich;VALUE=DATE:20230916
DTEND;TZID=Europe/Zurich;VALUE=DATE:20230918
DTSTAMP:20230502T093337Z
URL:https://sac-saas.ch/events/die-jugend-des-sac-saas-fuehrt-ein-wochenen
 de-die-grubenalp/
SUMMARY:Die Jugend des SAC Saas führt ein Wochenende die Grubenalp
DESCRIPTION:Dieses Wochenende liegt unsere Clubhütte in den Händen der Ju
 gend.\n\nWir verwöhnen die Wanderer und Gäste mit feinem Kuchen und erfr
 ischenden Getränken.\n\nAm Samstag Morgen wandern wir zur Grubenalp\, ric
 hten uns ein und verwöhnen unsere Gäste.\n\nAm Abend gehen wir an den na
 hegelegenen Felsen klettern.\n\nAuch am Sonntag erwarten wir Gäste und si
 nd mit einer Stärkung bereit für sie.\n\nEin Transport für Schlafsack u
 nd Klettermaterial wird organisiert.\n\n&nbsp\;\n\nSei beim Hüttenteam da
 bei und melde dich an!\n\nGäste müssen sich nicht anmelden\, die dürfen
  einfach kommen.\n\n&nbsp\;\n\nEinnahmen fliessen in die Kasse der SAC Jug
 end.\n\n\n\nSchwierigkeit\nfür jeden machbar\n\n\nAnmeldeschluss\n 14.09
 .2023\n\n\nAusrüstung\nKlettergurt\, Kletterfinken\, Helm\, Kuchen\, pick
 nick für Samstag und Sonntag Mittag\, Schlafsack\, Stirnlampe\, pers. Toi
 lettenartikel\n\n\nTreffpunkt\nwird noch bekannt gegeben\n\n\nKosten\n10.-
  SAC Beitrag\, 12.- für die Übernachtung und 8.- fürs Abendessen und Fr
 ühstück = 30.-\n\n\n\n&nbsp\;
CATEGORIES:SAC Tour
END:VEVENT
BEGIN:VTIMEZONE
TZID:Europe/Zurich
X-LIC-LOCATION:Europe/Zurich
BEGIN:DAYLIGHT
DTSTART:20230326T030000
TZOFFSETFROM:+0100
TZOFFSETTO:+0200
TZNAME:CEST
END:DAYLIGHT
END:VTIMEZONE
END:VCALENDAR